Felt | Verdi |
AlreadyApplied | True |
Aperture | 6.3 |
ApertureValue | 6.3 |
ApproximateFocusDistance | 4294967295 |
Artist | Svein Wisnæs |
AuthorsPosition | Photographer |
AutoLateralCA | 0 |
BitsPerSample | 8 |
Blacks2012 | -14 |
BlueHue | 0 |
BlueSaturation | 0 |
By-line | Svein Wisnæs |
By-lineTitle | Photographer |
CameraProfile | Adobe Standard |
Caption-Abstract | Morning sun coming through a little fog in the hillsides of Delfim Moreira. |
CFAPattern | [Red,Green][Green,Blue] |
CircleOfConfusion | 0.030 mm |
Clarity2012 | 0 |
ColorComponents | 3 |
ColorNoiseReduction | 36 |
ColorNoiseReductionDetail | 50 |
ColorTemperature | 5845 |
Contrast | Normal |
Contrast2012 | +79 |
ConvertToGrayscale | False |
Copyright | Svein Wisnæs, CC BY-NC |
CopyrightFlag | True |
CopyrightNotice | Svein Wisnæs, CC BY-NC |
Country | Brazil |
Country-PrimaryLocationName | Brazil |
CreateDate (1) | 2013:07:19 07:34:45.70 |
CreateDate | 2013:07:19 07:34:45 |
Creator | Svein Wisnæs |
CreatorTool | Adobe Photoshop Lightroom 5.0 (Windows) |
CreatorWorkURL | http://www.oceanwatcher.com/ |
CropAngle | -0.133556 |
CropBottom | 0.996516 |
CropConstrainToWarp | 0 |
CropLeft | 0.000968 |
CropRight | 0.999032 |
CropTop | 0.003484 |
CustomRendered | Normal |
DateCreated (1) | 2013:07:19 |
DateCreated | 2013:07:19 07:34:45.70 |
DateTimeOriginal | 2013:07:19 07:34:45 |
DefringeGreenAmount | 0 |
DefringeGreenHueHi | 60 |
DefringeGreenHueLo | 40 |
DefringePurpleAmount | 0 |
DefringePurpleHueHi | 70 |
DefringePurpleHueLo | 30 |
Description | Morning sun coming through a little fog in the hillsides of Delfim Moreira. |
DigitalZoomRatio | 1 |
DOF | inf (211.31 m - inf) |
Exposure2012 | -0.24 |
ExposureCompensation | 0 |
ExposureMode | Auto |
ExposureProgram | Not Defined |
ExposureTime | 1/640 |
Flash | Auto, Did not fire |
FNumber | 6.3 |
FocalLength | 200.0 mm |
FocalLength35efl | 200.0 mm (35 mm equivalent: 200.0 mm) |
FocalLengthIn35mmFormat | 200 mm |
Format | image/jpeg |
FOV | 10.3 deg |
GainControl | None |
GPSLatitude (1) | 22 deg 30' 15.38" |
GPSLatitude | 22 deg 30' 15.38" S |
GPSLatitudeRef | South |
GPSLongitude (1) | 45 deg 17' 14.65" |
GPSLongitude | 45 deg 17' 14.65" W |
GPSLongitudeRef | West |
GPSPosition | 22 deg 30' 15.38" S, 45 deg 17' 14.65" W |
GPSVersionID | 2.2.0.0 |
GrainAmount | 0 |
GreenHue | 0 |
GreenSaturation | 0 |
HasCrop | True |
HasSettings | True |
Highlights2012 | +19 |
HueAdjustmentAqua | 0 |
HueAdjustmentBlue | 0 |
HueAdjustmentGreen | 0 |
HueAdjustmentMagenta | 0 |
HueAdjustmentOrange | 0 |
HueAdjustmentPurple | 0 |
HueAdjustmentRed | 0 |
HueAdjustmentYellow | 0 |
HyperfocalDistance | 211.31 m |
ImageDescription | Morning sun coming through a little fog in the hillsides of Delfim Moreira. |
ImageHeight | 1667 |
ImageNumber | 5310 |
ImageSize | 2500x1667 |
ImageWidth | 2500 |
ISO | 200 |
Lens | 18.0-200.0 mm f/3.5-5.6 |
LensID (1) | 139 |
LensID | AF-S DX VR Zoom-Nikkor 18-200mm f/3.5-5.6G IF-ED or AF-S DX VR Zoom-Nikkor 18-200mm f/3.5-5.6G IF-ED [II] |
LensInfo | 18-200mm f/3.5-5.6 |
LensManualDistortionAmount | 0 |
LensModel | 18.0-200.0 mm f/3.5-5.6 |
LensProfileEnable | 0 |
LensProfileSetup | LensDefaults |
LightSource | Unknown |
LightValue | 13.6 |
LuminanceAdjustmentAqua | 0 |
LuminanceAdjustmentBlue | 0 |
LuminanceAdjustmentGreen | 0 |
LuminanceAdjustmentMagenta | 0 |
LuminanceAdjustmentOrange | 0 |
LuminanceAdjustmentPurple | 0 |
LuminanceAdjustmentRed | 0 |
LuminanceAdjustmentYellow | 0 |
LuminanceNoiseReductionContrast | 0 |
LuminanceNoiseReductionDetail | 50 |
LuminanceSmoothing | 23 |
Make | NIKON CORPORATION |
Marked | True |
MaxApertureValue | 5.7 |
Megapixels | 4.2 |
MeteringMode | Multi-segment |
Model | NIKON D5200 |
ModifyDate (1) | 2013:07:23 12:25:13-03:00 |
ModifyDate | 2013:07:23 12:25:13 |
ObjectName | Sunrise in Delfim Moreira |
ParametricDarks | 0 |
ParametricHighlights | +10 |
ParametricHighlightSplit | 75 |
ParametricLights | 0 |
ParametricMidtoneSplit | 50 |
ParametricShadows | -13 |
ParametricShadowSplit | 25 |
PerspectiveAspect | 0 |
PerspectiveHorizontal | 0 |
PerspectiveRotate | 0.0 |
PerspectiveScale | 100 |
PerspectiveUpright | 0 |
PerspectiveVertical | 0 |
PostCropVignetteAmount | -7 |
PostCropVignetteFeather | 50 |
PostCropVignetteHighlightContrast | 0 |
PostCropVignetteMidpoint | 50 |
PostCropVignetteRoundness | 0 |
PostCropVignetteStyle | 1 |
ProcessVersion | 6.7 |
ProfileDescription | sRGB IEC61966-2.1 |
Province-State | Minas Gerais |
Rating | 4 |
RatingPercent | 0 |
RedHue | 0 |
RedSaturation | 0 |
Rights | Svein Wisnæs, CC BY-NC |
Saturation (1) | 0 |
Saturation | Normal |
SaturationAdjustmentAqua | 0 |
SaturationAdjustmentBlue | 0 |
SaturationAdjustmentGreen | 0 |
SaturationAdjustmentMagenta | 0 |
SaturationAdjustmentOrange | 0 |
SaturationAdjustmentPurple | 0 |
SaturationAdjustmentRed | 0 |
SaturationAdjustmentYellow | 0 |
ScaleFactor35efl | 1.0 |
SceneCaptureType | Standard |
SceneType | Directly photographed |
SensingMethod | One-chip color area |
SensitivityType | Recommended Exposure Index |
SerialNumber | 4314728 |
Shadows2012 | +5 |
ShadowTint | 0 |
SharpenDetail | 25 |
SharpenEdgeMasking | 0 |
SharpenRadius | +1.0 |
Sharpness (1) | 45 |
Sharpness | Normal |
ShutterSpeed | 1/640 |
ShutterSpeedValue | 1/640 |
Software | Adobe Photoshop Lightroom 5.0 (Windows) |
SplitToningBalance | 0 |
SplitToningHighlightHue | 0 |
SplitToningHighlightSaturation | 0 |
SplitToningShadowHue | 0 |
SplitToningShadowSaturation | 0 |
State | Minas Gerais |
SubjectDistanceRange | Unknown |
Tint | +6 |
Title | Sunrise in Delfim Moreira |
ToneCurveName2012 | Linear |
ToneCurvePV2012 | 0, 0, 255, 255 |
ToneCurvePV2012Blue | 0, 0, 255, 255 |
ToneCurvePV2012Green | 0, 0, 255, 255 |
ToneCurvePV2012Red | 0, 0, 255, 255 |
URL | http://www.oceanwatcher.com/ |
UsageTerms | Attribution Non-Commercial, CC BY-NC |
UserComment | www.oceanwatcher.com Svein Wisnaes |
Version | 8.1 |
Vibrance | +10 |
VignetteAmount | 0 |
WebStatement | http://www.oceanwatcher.com/ |
WhiteBalance (1) | Custom |
WhiteBalance | Auto |
Whites2012 | +12 |