Felt | Verdi |
AlreadyApplied | True |
Aperture | 5.6 |
ApertureValue | 5.6 |
ApproximateFocusDistance | 11.9 |
AutoLateralCA | 0 |
BitsPerSample | 8 |
Blacks2012 | +12 |
BlueHue | 0 |
BlueSaturation | 0 |
CameraProfile | Adobe Standard |
CFAPattern | [Red,Green][Green,Blue] |
CircleOfConfusion | 0.030 mm |
Clarity2012 | +55 |
ColorComponents | 3 |
ColorNoiseReduction | 25 |
ColorNoiseReductionDetail | 50 |
ColorTemperature | 4200 |
Contrast | Normal |
Contrast2012 | -10 |
ConvertToGrayscale | False |
CreateDate (1) | 2013:09:21 07:10:45.52 |
CreateDate | 2013:09:21 07:10:45 |
CreatorTool | Adobe Photoshop Lightroom 4.4 (Windows) |
CropAngle | -0.040596 |
CropBottom | 0.868763 |
CropConstrainToWarp | 0 |
CropHeight | 784 |
CropLeft | 0.056574 |
CropRight | 0.994444 |
CropTop | 0.006537 |
CropUnit | pixels |
CropWidth | 1280 |
CustomRendered | Normal |
DateCreated (1) | 2013:09:21 |
DateCreated | 2013:09:21 07:10:45.52 |
DateTimeOriginal | 2013:09:21 07:10:45 |
DefringeGreenAmount | 0 |
DefringeGreenHueHi | 60 |
DefringeGreenHueLo | 40 |
DefringePurpleAmount | 0 |
DefringePurpleHueHi | 70 |
DefringePurpleHueLo | 30 |
DigitalZoomRatio | 1 |
DOF | 0.13 m (11.84 - 11.96 m) |
Exposure2012 | -1.07 |
ExposureCompensation | +1/3 |
ExposureMode | Auto |
ExposureProgram | Aperture-priority AE |
ExposureTime | 1/320 |
Flash | No Flash |
FNumber | 5.6 |
FocalLength | 600.0 mm |
FocalLength35efl | 600.0 mm (35 mm equivalent: 600.0 mm) |
FocalLengthIn35mmFormat | 600 mm |
Format | image/jpeg |
FOV | 3.4 deg |
GainControl | High gain up |
GrainAmount | 0 |
GreenHue | 0 |
GreenSaturation | 0 |
HasCrop | True |
HasSettings | True |
Highlights2012 | -100 |
HueAdjustmentAqua | 0 |
HueAdjustmentBlue | 0 |
HueAdjustmentGreen | -32 |
HueAdjustmentMagenta | 0 |
HueAdjustmentOrange | +9 |
HueAdjustmentPurple | 0 |
HueAdjustmentRed | 0 |
HueAdjustmentYellow | +3 |
HyperfocalDistance | 2139.56 m |
ImageHeight | 784 |
ImageNumber | 45011 |
ImageSize | 1280x784 |
ImageWidth | 1280 |
ISO | 2000 |
Lens | 600.0 mm f/4.0 |
LensID (1) | 152 |
LensID | AF-S VR Nikkor 600mm f/4G ED |
LensInfo | 600mm f/4 |
LensManualDistortionAmount | 0 |
LensModel | 600.0 mm f/4.0 |
LensProfileChromaticAberrationScale | 100 |
LensProfileDistortionScale | 100 |
LensProfileEnable | 1 |
LensProfileFilename | NIKON D3X (Nikon AF-S NIKKOR 600mm f4G ED VR) - RAW.lcp |
LensProfileName | Adobe (Nikon AF-S NIKKOR 600mm f/4G ED VR) |
LensProfileSetup | Custom |
LensProfileVignettingScale | 100 |
LightSource | Unknown |
LightValue | 9.0 |
LuminanceAdjustmentAqua | 0 |
LuminanceAdjustmentBlue | 0 |
LuminanceAdjustmentGreen | 0 |
LuminanceAdjustmentMagenta | 0 |
LuminanceAdjustmentOrange | 0 |
LuminanceAdjustmentPurple | 0 |
LuminanceAdjustmentRed | 0 |
LuminanceAdjustmentYellow | 0 |
LuminanceNoiseReductionContrast | 0 |
LuminanceNoiseReductionDetail | 50 |
LuminanceSmoothing | 11 |
Make | NIKON CORPORATION |
MaxApertureValue | 4.0 |
Megapixels | 1.0 |
MeteringMode | Multi-segment |
Model | NIKON D3S |
ModifyDate (1) | 2013:11:21 19:55:55+01:00 |
ModifyDate | 2013:11:21 19:55:55 |
ParametricDarks | 0 |
ParametricHighlights | 0 |
ParametricHighlightSplit | 75 |
ParametricLights | 0 |
ParametricMidtoneSplit | 50 |
ParametricShadows | 0 |
ParametricShadowSplit | 25 |
PerspectiveHorizontal | 0 |
PerspectiveRotate | 0.0 |
PerspectiveScale | 100 |
PerspectiveVertical | 0 |
PostCropVignetteAmount | 0 |
ProcessVersion | 6.7 |
ProfileDescription | Adobe RGB (1998) |
RedHue | 0 |
RedSaturation | 0 |
Saturation (1) | +24 |
Saturation | Normal |
SaturationAdjustmentAqua | 0 |
SaturationAdjustmentBlue | 0 |
SaturationAdjustmentGreen | 0 |
SaturationAdjustmentMagenta | 0 |
SaturationAdjustmentOrange | 0 |
SaturationAdjustmentPurple | 0 |
SaturationAdjustmentRed | 0 |
SaturationAdjustmentYellow | 0 |
ScaleFactor35efl | 1.0 |
SceneCaptureType | Standard |
SceneType | Directly photographed |
SensingMethod | One-chip color area |
SerialNumber | 2000736 |
Shadows2012 | +100 |
ShadowTint | 0 |
SharpenDetail | 61 |
SharpenEdgeMasking | 77 |
SharpenRadius | +1.5 |
Sharpness (1) | 68 |
Sharpness | Normal |
ShutterSpeed | 1/320 |
ShutterSpeedValue | 1/320 |
Software | Adobe Photoshop Lightroom 4.4 (Windows) |
SplitToningBalance | 0 |
SplitToningHighlightHue | 0 |
SplitToningHighlightSaturation | 0 |
SplitToningShadowHue | 0 |
SplitToningShadowSaturation | 0 |
SubjectDistanceRange | Unknown |
Tint | +18 |
ToneCurveName2012 | Linear |
ToneCurvePV2012 | 0, 0, 255, 255 |
ToneCurvePV2012Blue | 0, 0, 255, 255 |
ToneCurvePV2012Green | 0, 0, 255, 255 |
ToneCurvePV2012Red | 0, 0, 255, 255 |
Version | 7.4 |
Vibrance | +7 |
VignetteAmount | 0 |
WhiteBalance (1) | As Shot |
WhiteBalance | Auto |
Whites2012 | -21 |