Felt | Verdi |
AlreadyApplied | True |
Aperture | 2.4 |
ApertureValue | 2.4 |
AutoLateralCA | 0 |
AutoWhiteVersion | 134348800 |
BitsPerSample (1) | 8 8 8 |
BitsPerSample | 8 |
Blacks2012 | -58 |
BlueHue | 0 |
BlueSaturation | 0 |
BrightnessValue | 10.55491474 |
CameraProfile | Embedded |
CircleOfConfusion | 0.004 mm |
Clarity2012 | +40 |
ColorComponents | 3 |
ColorMode | RGB |
ColorNoiseReduction | 0 |
ColorSpace | Uncalibrated |
Contrast2012 | +5 |
ConvertToGrayscale | False |
CreateDate | 2013:09:19 12:03:42 |
CreatorTool | Adobe Photoshop CC (Macintosh) |
CropAngle | -0.442088 |
CropBottom | 0.98981 |
CropConstrainToWarp | 1 |
CropLeft | 0.000428 |
CropRight | 0.994883 |
CropTop | 0.319022 |
DateCreated (1) | 2013:09:19 |
DateCreated | 2013:09:19 12:03:42 |
DateTimeOriginal | 2013:09:19 12:03:42 |
DefringeGreenAmount | 0 |
DefringeGreenHueHi | 60 |
DefringeGreenHueLo | 40 |
DefringePurpleAmount | 0 |
DefringePurpleHueHi | 70 |
DefringePurpleHueLo | 30 |
ExifImageHeight | 1667 |
ExifImageWidth | 3233 |
Exposure2012 | -0.15 |
ExposureMode | Auto |
ExposureProgram | Program AE |
ExposureTime | 1/2200 |
Flash | Auto, Did not fire |
FNumber | 2.4 |
FocalLength | 4.1 mm |
FocalLength35efl | 4.1 mm (35 mm equivalent: 33.0 mm) |
FocalLengthIn35mmFormat | 33 mm |
Format | image/jpeg |
FOV | 57.2 deg |
GPSAltitude (1) | 1233.653846 m |
GPSAltitude | 1233.6 m Above Sea Level |
GPSAltitudeRef | Above Sea Level |
GPSDateStamp | 0000:00:00 |
GPSDateTime | 0000:00:00 10:03:41.41Z |
GPSImgDirection | 31.08221477 |
GPSImgDirectionRef | True North |
GPSLatitude (1) | 69 deg 36' 24.60" |
GPSLatitude | 69 deg 36' 24.60" N |
GPSLatitudeRef | North |
GPSLongitude (1) | 19 deg 8' 43.80" |
GPSLongitude | 19 deg 8' 43.80" E |
GPSLongitudeRef | East |
GPSPosition | 69 deg 36' 24.60" N, 19 deg 8' 43.80" E |
GPSTimeStamp | 10:03:41.41 |
GradientBasedCorrActive | true |
GradientBasedCorrAmount | 1.000000 |
GradientBasedCorrBrightness | 0.000000 |
GradientBasedCorrClarity | 0.000000 |
GradientBasedCorrClarity2012 | 0.500000 |
GradientBasedCorrContrast | 0.000000 |
GradientBasedCorrContrast2012 | 0.450000 |
GradientBasedCorrDefringe | 0.000000 |
GradientBasedCorrExposure | 0.000000 |
GradientBasedCorrExposure2012 | -0.087500 |
GradientBasedCorrHighlights2012 | -0.240000 |
GradientBasedCorrHue | 314.000000 |
GradientBasedCorrLuminanceNoise | 0.000000 |
GradientBasedCorrMaskFullX | 0.603675 |
GradientBasedCorrMaskFullY | 0.951928 |
GradientBasedCorrMaskValue | 1.000000 |
GradientBasedCorrMaskWhat | Mask/Gradient |
GradientBasedCorrMaskZeroX | 0.507479 |
GradientBasedCorrMaskZeroY | 0.389386 |
GradientBasedCorrMoire | 0.000000 |
GradientBasedCorrSaturation (1) | -0.440000 |
GradientBasedCorrSaturation | 0.000000 |
GradientBasedCorrShadows2012 | 0.710000 |
GradientBasedCorrSharpness | 0.220000 |
GradientBasedCorrTemperature | 0.140000 |
GradientBasedCorrTint | -0.150000 |
GradientBasedCorrWhat | Correction |
GrainAmount | 0 |
GreenHue | 0 |
GreenSaturation | 0 |
HasCrop | True |
HasSettings | True |
Highlights2012 | -55 |
HueAdjustmentAqua | 0 |
HueAdjustmentBlue | 0 |
HueAdjustmentGreen | 0 |
HueAdjustmentMagenta | 0 |
HueAdjustmentOrange | 0 |
HueAdjustmentPurple | 0 |
HueAdjustmentRed | 0 |
HueAdjustmentYellow | 0 |
HyperfocalDistance | 1.89 m |
ICCProfileName | Adobe RGB (1998) |
ImageHeight | 1667 |
ImageSize | 3233x1667 |
ImageWidth | 3233 |
IncrementalTemperature | +4 |
IncrementalTint | 0 |
ISO | 50 |
LensManualDistortionAmount | 0 |
LensProfileEnable | 0 |
LensProfileSetup | LensDefaults |
LightValue | 14.6 |
LuminanceAdjustmentAqua | 0 |
LuminanceAdjustmentBlue | -4 |
LuminanceAdjustmentGreen | +37 |
LuminanceAdjustmentMagenta | 0 |
LuminanceAdjustmentOrange | 0 |
LuminanceAdjustmentPurple | 0 |
LuminanceAdjustmentRed | 0 |
LuminanceAdjustmentYellow | +33 |
LuminanceNoiseReductionContrast | 0 |
LuminanceNoiseReductionDetail | 10 |
LuminanceSmoothing | 20 |
Make | Apple |
Megapixels | 5.4 |
MeteringMode | Multi-segment |
Model | iPhone 5 |
ModifyDate (1) | 2013:09:20 12:10:20+02:00 |
ModifyDate | 2013:09:20 12:10:20 |
Orientation | Horizontal (normal) |
ParametricDarks | 0 |
ParametricHighlights | 0 |
ParametricHighlightSplit | 75 |
ParametricLights | 0 |
ParametricMidtoneSplit | 50 |
ParametricShadows | 0 |
ParametricShadowSplit | 25 |
PerspectiveAspect | 0 |
PerspectiveHorizontal | 0 |
PerspectiveRotate | 0.0 |
PerspectiveScale | 100 |
PerspectiveUpright | 0 |
PerspectiveVertical | 0 |
PhotographicSensitivity | 50 |
PhotometricInterpretation | RGB |
PostCropVignetteAmount | 0 |
ProcessVersion | 6.7 |
ProfileDescription | Adobe RGB (1998) |
Rating | 0 |
RawFileName | bilde-13.JPG |
RedHue | 0 |
RedSaturation | 0 |
Saturation | +16 |
SaturationAdjustmentAqua | 0 |
SaturationAdjustmentBlue | +26 |
SaturationAdjustmentGreen | 0 |
SaturationAdjustmentMagenta | 0 |
SaturationAdjustmentOrange | 0 |
SaturationAdjustmentPurple | +1 |
SaturationAdjustmentRed | 0 |
SaturationAdjustmentYellow | -5 |
ScaleFactor35efl | 8.0 |
SceneCaptureType | Standard |
SensingMethod | One-chip color area |
Shadows2012 | +73 |
ShadowTint | 0 |
SharpenDetail | 1 |
SharpenEdgeMasking | 76 |
SharpenRadius | +0.6 |
Sharpness | 134 |
ShutterSpeed | 1/2200 |
ShutterSpeedValue | 1/2200 |
Software | Adobe Photoshop CC (Macintosh) |
SplitToningBalance | 0 |
SplitToningHighlightHue | 0 |
SplitToningHighlightSaturation | 0 |
SplitToningShadowHue | 0 |
SplitToningShadowSaturation | 0 |
SubjectArea | 1631 1223 881 881 |
ToneCurveName2012 | Linear |
ToneCurvePV2012 | 0, 0, 255, 255 |
ToneCurvePV2012Blue | 0, 0, 255, 255 |
ToneCurvePV2012Green | 0, 0, 255, 255 |
ToneCurvePV2012Red | 0, 0, 255, 255 |
URL_List | |
Version | 8.2 |
Vibrance | +32 |
VignetteAmount | 0 |
WhiteBalance (1) | Custom |
WhiteBalance | Auto |
Whites2012 | +58 |