Felt | Verdi |
AlreadyApplied | True |
Aperture | 14.0 |
ApertureValue | 14.0 |
BitsPerSample | 8 |
BlackClip | 0.011550 |
BlueHue | 0 |
BlueSaturation | 0 |
Brightness | 0 |
CameraProfile | Embedded |
ChromaticAberrationB | 0 |
ChromaticAberrationR | 0 |
Clarity | +22 |
ColorComponents | 3 |
ColorNoiseReduction | 0 |
ColorSaturation | 50.0 |
ColorTemperature | 0.3 |
Contrast | +66 |
ConvertToGrayscale | False |
CreateDate | 2012:03:03 21:10:01 |
CreatorTool | Adobe Photoshop Lightroom 3.5 (Macintosh) |
DateCreated (1) | 2012:03:03 |
DateCreated | 2012:03:03 21:10:01 |
DateTimeOriginal | 2012:03:03 21:10:48 |
Defringe | 0 |
Exposure | 0.00 |
ExposureTime | 60 |
FillLight | 24 |
FNumber | 14.0 |
FocalLength | 10.0 mm |
FocalLength35efl | 10.0 mm |
Gamma | 1.49 |
GrainAmount | 0 |
GreenHue | 0 |
GreenSaturation | 0 |
HasCrop | False |
HasSettings | True |
HighlightRecovery | 18 |
HighlightsSmoothing | 1.0 |
HueAdjustmentAqua | 0 |
HueAdjustmentBlue | 0 |
HueAdjustmentGreen | 0 |
HueAdjustmentMagenta | 0 |
HueAdjustmentOrange | 0 |
HueAdjustmentPurple | 0 |
HueAdjustmentRed | 0 |
HueAdjustmentYellow | 0 |
ImageHeight | 960 |
ImageSize | 638x960 |
ImageWidth | 638 |
IncrementalTemperature | 0 |
IncrementalTint | 0 |
ISO | 200 |
IsPano360 | No |
Lens | 10.0-24.0 mm f/3.5-4.5 |
LensManualDistortionAmount | 0 |
LensModel | 10.0-24.0 mm f/3.5-4.5 |
LensProfileEnable | 0 |
LensProfileSetup | LensDefaults |
LightValue | 0.7 |
LuminanceAdjustmentAqua | 0 |
LuminanceAdjustmentBlue | 0 |
LuminanceAdjustmentGreen | 0 |
LuminanceAdjustmentMagenta | 0 |
LuminanceAdjustmentOrange | 0 |
LuminanceAdjustmentPurple | 0 |
LuminanceAdjustmentRed | 0 |
LuminanceAdjustmentYellow | 0 |
LuminanceNoiseReductionContrast | 0 |
LuminanceNoiseReductionDetail | 50 |
LuminanceSmoothing | 65 |
Luminosity | 8.0 |
Megapixels | 0.612 |
Method | Details Enhancer |
Microcontrast | 9.9 |
Microsmoothing | 0.0 |
Model | NIKON D90 |
ModifyDate (1) | 2012:03:04 15:46:10+01:00 |
ModifyDate | 2012:03:04 15:46:10 |
ParametricDarks | +29 |
ParametricHighlights | 0 |
ParametricHighlightSplit | 75 |
ParametricLights | 0 |
ParametricMidtoneSplit | 50 |
ParametricShadows | +33 |
ParametricShadowSplit | 25 |
PerspectiveHorizontal | 0 |
PerspectiveRotate | 0.0 |
PerspectiveScale | 100 |
PerspectiveVertical | 0 |
PostCropVignetteAmount | 0 |
ProcessVersion | 5.7 |
ProfileDescription | sRGB IEC61966-2.1 |
RedHue | 0 |
RedSaturation | 0 |
Saturation | 0 |
SaturationAdjustmentAqua | 0 |
SaturationAdjustmentBlue | 0 |
SaturationAdjustmentGreen | 0 |
SaturationAdjustmentMagenta | 0 |
SaturationAdjustmentOrange | 0 |
SaturationAdjustmentPurple | 0 |
SaturationAdjustmentRed | 0 |
SaturationAdjustmentYellow | 0 |
SaturationHighlights | 0.0 |
SaturationShadows | 0.0 |
Shadows | 7 |
ShadowsClipping | 0.0 |
ShadowsSmoothing | 70.0 |
ShadowTint | 0 |
SharpenDetail | 25 |
SharpenEdgeMasking | 26 |
SharpenRadius | +0.7 |
Sharpness | 19 |
ShutterSpeed | 60 |
ShutterSpeedValue | 60 |
Smoothing | -8.9 |
SmoothingMode | Slider |
Software | Adobe Photoshop Lightroom 3.5 (Macintosh) |
SplitToningBalance | 0 |
SplitToningHighlightHue | 0 |
SplitToningHighlightSaturation | 0 |
SplitToningShadowHue | 0 |
SplitToningShadowSaturation | 0 |
Strength | 100.0 |
ToneCurve | 0, 0, 255, 255 |
ToneCurveName | Linear |
Version (1) | 4.1 |
Version | 6.5 |
Vibrance | -43 |
VignetteAmount | 0 |
WhiteBalance | As Shot |
WhiteClip | 6.526650 |