Felt | Verdi |
AlreadyApplied | True |
ApproximateFocusDistance | 4294967295 |
BitsPerSample | 8 |
BlueHue | 0 |
BlueSaturation | 0 |
Brightness | 0 |
CameraProfile | Embedded |
ChromaticAberrationB | 0 |
ChromaticAberrationR | 0 |
CircleOfConfusion | 0.020 mm |
Clarity | +100 |
ColorComponents | 3 |
ColorNoiseReduction | 0 |
Contrast | +100 |
ConvertToGrayscale | False |
CreateDate (1) | 2012:01:14 18:17:03.11 |
CreateDate | 2012:01:14 18:17:03 |
CreatorTool | Adobe Photoshop Lightroom 3.4 |
CropAngle | 0 |
CropBottom | 1 |
CropConstrainToWarp | 0 |
CropHeight | 2956 |
CropLeft | 0 |
CropRight | 1 |
CropTop | 0.239766 |
CropUnit | pixels |
CropWidth | 2592 |
CustomRendered | Normal |
DateCreated (1) | 2012:01:14 |
DateCreated | 2012:01:14 18:17:03.11 |
DateTimeOriginal | 2012:01:14 18:17:03 |
Defringe | 0 |
Exposure | 0.00 |
ExposureCompensation | -8/3 |
ExposureMode | Auto bracket |
ExposureProgram | Aperture-priority AE |
FillLight | 0 |
Firmware | 1.2.5 |
Flash | Off, Did not fire |
FlashCompensation | 0 |
GradientBasedCorrActive | true |
GradientBasedCorrAmount | 1.000000 |
GradientBasedCorrBrightness | 0.000000 |
GradientBasedCorrClarity (1) | 1.000000 |
GradientBasedCorrClarity | 0.000000 |
GradientBasedCorrContrast (1) | 1.000000 |
GradientBasedCorrContrast | 0.000000 |
GradientBasedCorrExposure (1) | 0.000000 |
GradientBasedCorrExposure (2) | 0.317000 |
GradientBasedCorrExposure | 0.244000 |
GradientBasedCorrHue | 0.000000 |
GradientBasedCorrMaskFullX (1) | 0.524123 |
GradientBasedCorrMaskFullX (2) | 0.523333 |
GradientBasedCorrMaskFullX | 0.511667 |
GradientBasedCorrMaskFullY (1) | 0.323099 |
GradientBasedCorrMaskFullY (2) | 0.241989 |
GradientBasedCorrMaskFullY | -0.008089 |
GradientBasedCorrMaskValue | 1.000000 |
GradientBasedCorrMaskWhat | Mask/Gradient |
GradientBasedCorrMaskZeroX (1) | 0.524123 |
GradientBasedCorrMaskZeroX (2) | 0.523333 |
GradientBasedCorrMaskZeroX | 0.511667 |
GradientBasedCorrMaskZeroY (1) | 1.688600 |
GradientBasedCorrMaskZeroY (2) | 0.559864 |
GradientBasedCorrMaskZeroY | 0.438716 |
GradientBasedCorrSaturation | 0.000000 |
GradientBasedCorrSharpness | 0.000000 |
GradientBasedCorrWhat | Correction |
GrainAmount | 0 |
GreenHue | 0 |
GreenSaturation | 0 |
HasCrop | True |
HasSettings | True |
HighlightRecovery | 0 |
HueAdjustmentAqua | 0 |
HueAdjustmentBlue | 0 |
HueAdjustmentGreen | 0 |
HueAdjustmentMagenta | 0 |
HueAdjustmentOrange | 0 |
HueAdjustmentPurple | 0 |
HueAdjustmentRed | 0 |
HueAdjustmentYellow | 0 |
ImageHeight | 2956 |
ImageNumber | 0 |
ImageSize | 2592x2956 |
ImageWidth | 2592 |
IncrementalTemperature | -31 |
IncrementalTint | -3 |
ISO | 50 |
Lens | EF17-40mm f/4L USM |
LensID (1) | 231 |
LensID | Canon EF 17-40mm f/4L USM |
LensInfo | 17-40mm f/? |
LensManualDistortionAmount | 0 |
LensModel | EF17-40mm f/4L USM |
LensProfileEnable | 0 |
LensProfileSetup | LensDefaults |
LuminanceAdjustmentAqua | 0 |
LuminanceAdjustmentBlue | 0 |
LuminanceAdjustmentGreen | 0 |
LuminanceAdjustmentMagenta | 0 |
LuminanceAdjustmentOrange | 0 |
LuminanceAdjustmentPurple | 0 |
LuminanceAdjustmentRed | 0 |
LuminanceAdjustmentYellow | 0 |
LuminanceSmoothing | 0 |
Make | Canon |
MaxApertureValue | 4.0 |
Megapixels | 7.7 |
MeteringMode | Multi-segment |
Model | Canon EOS-1D Mark III |
ModifyDate (1) | 2012:01:26 21:53:33+01:00 |
ModifyDate | 2012:01:26 21:53:33 |
ParametricDarks | 0 |
ParametricHighlights | 0 |
ParametricHighlightSplit | 75 |
ParametricLights | 0 |
ParametricMidtoneSplit | 50 |
ParametricShadows | 0 |
ParametricShadowSplit | 25 |
PerspectiveHorizontal | 0 |
PerspectiveRotate | 0.0 |
PerspectiveScale | 100 |
PerspectiveVertical | 0 |
PostCropVignetteAmount | 0 |
ProcessVersion | 5.7 |
ProfileDescription | sRGB IEC61966-2.1 |
RedHue | 0 |
RedSaturation | 0 |
Saturation | +3 |
SaturationAdjustmentAqua | 0 |
SaturationAdjustmentBlue | 0 |
SaturationAdjustmentGreen | 0 |
SaturationAdjustmentMagenta | 0 |
SaturationAdjustmentOrange | 0 |
SaturationAdjustmentPurple | 0 |
SaturationAdjustmentRed | 0 |
SaturationAdjustmentYellow | 0 |
ScaleFactor35efl | 1.5 |
SceneCaptureType | Standard |
SerialNumber | 533855 |
Shadows | 0 |
ShadowTint | 0 |
SharpenDetail | 100 |
SharpenEdgeMasking | 100 |
SharpenRadius | +3.0 |
Sharpness | 150 |
Software | Adobe Photoshop Lightroom 3.4 |
SplitToningBalance | 0 |
SplitToningHighlightHue | 0 |
SplitToningHighlightSaturation | 0 |
SplitToningShadowHue | 0 |
SplitToningShadowSaturation | 0 |
SubjectDistance | 4294967295 m |
ToneCurve | 0, 0, 255, 255 |
ToneCurveName | Linear |
Version | 6.4 |
Vibrance | -10 |
VignetteAmount | 0 |
WhiteBalance (1) | Custom |
WhiteBalance | Auto |