Felt | Verdi |
AlreadyApplied | True |
Aperture | 11.0 |
ApertureValue | 11.0 |
ApproximateFocusDistance | 237 |
BitsPerSample | 8 |
BlackClip | 0.199050 |
BlueHue | +11 |
BlueSaturation | -70 |
Brightness | +57 |
CameraProfile | Embedded |
ChromaticAberrationB | 0 |
ChromaticAberrationR | 0 |
Clarity | +49 |
ColorComponents | 3 |
ColorNoiseReduction | 25 |
ColorNoiseReductionDetail | 50 |
ColorSaturation | 65.0 |
ColorTemperature | 0.0 |
Contrast | +91 |
ConvertToGrayscale | False |
CreateDate (1) | 2011:07:20 19:48:40.00 |
CreateDate | 2011:07:20 19:48:40 |
CreatorTool | Adobe Photoshop Lightroom 3.4.1 |
CropAngle | 0 |
CropBottom | 0.837378 |
CropConstrainToWarp | 0 |
CropHeight | 2365 |
CropLeft | 0.032765 |
CropRight | 0.867717 |
CropTop | 0.002427 |
CropUnit | pixels |
CropWidth | 3574 |
DateCreated (1) | 2011:07:20 |
DateCreated | 2011:07:20 19:48:40.00 |
DateTimeOriginal | 2011:07:20 19:48:41 |
Defringe | 0 |
Exposure | -1.43 |
ExposureTime | 1/400 |
FillLight | 44 |
FNumber | 11.0 |
FocalLength | 32.0 mm |
FocalLength35efl | 32.0 mm |
Gamma | 1.1 |
GrainAmount | 0 |
GreenHue | +11 |
GreenSaturation | +25 |
HasCrop | True |
HasSettings | True |
HighlightRecovery | 0 |
HighlightsSmoothing | 0.0 |
HueAdjustmentAqua | 0 |
HueAdjustmentBlue | 0 |
HueAdjustmentGreen | 0 |
HueAdjustmentMagenta | 0 |
HueAdjustmentOrange | 0 |
HueAdjustmentPurple | 0 |
HueAdjustmentRed | 0 |
HueAdjustmentYellow | 0 |
ImageHeight | 2365 |
ImageNumber | 4313 |
ImageSize | 3574x2365 |
ImageWidth | 3574 |
IncrementalTemperature | +59 |
IncrementalTint | +27 |
ISO | 160 |
Lens | 18.0-270.0 mm f/3.5-6.3 |
LensID | 245 |
LensInfo | 18-270mm f/3.5-6.3 |
LensManualDistortionAmount | 0 |
LensModel | 18.0-270.0 mm f/3.5-6.3 |
LensProfileEnable | 0 |
LensProfileSetup | LensDefaults |
LightValue | 14.9 |
LuminanceAdjustmentAqua | 0 |
LuminanceAdjustmentBlue | 0 |
LuminanceAdjustmentGreen | 0 |
LuminanceAdjustmentMagenta | 0 |
LuminanceAdjustmentOrange | 0 |
LuminanceAdjustmentPurple | 0 |
LuminanceAdjustmentRed | 0 |
LuminanceAdjustmentYellow | 0 |
LuminanceNoiseReductionContrast | 0 |
LuminanceNoiseReductionDetail | 50 |
LuminanceSmoothing | 68 |
Luminosity | 6.0 |
Megapixels | 8.5 |
Method | Details Enhancer |
Microcontrast | 6.0 |
Microsmoothing | 3.0 |
Model | NIKON D90 |
ModifyDate (1) | 2011:07:22 12:32:21+02:00 |
ModifyDate | 2011:07:22 12:32:21 |
PaintCorrectionActive | true |
PaintCorrectionAmount | 1.000000 |
PaintCorrectionBrightness | 0.463000 |
PaintCorrectionClarity | 0.390000 |
PaintCorrectionContrast | 0.976000 |
PaintCorrectionExposure | -0.732000 |
PaintCorrectionHue | 348.000000 |
PaintCorrectionMaskCenterWeight | 0.096875 |
PaintCorrectionMaskFlow | 0.529000 |
PaintCorrectionMaskRadius (1) | 0.039236 |
PaintCorrectionMaskRadius | 0.111148 |
PaintCorrectionMaskValue | 0.369000 |
PaintCorrectionMaskWhat | Mask/Paint |
PaintCorrectionSaturation | 0.000000 |
PaintCorrectionSharpness | 0.829000 |
PaintCorrectionWhat | Correction |
ParametricDarks | -3 |
ParametricHighlights | 0 |
ParametricHighlightSplit | 75 |
ParametricLights | 0 |
ParametricMidtoneSplit | 50 |
ParametricShadows | -14 |
ParametricShadowSplit | 25 |
PerspectiveHorizontal | 0 |
PerspectiveRotate | 0.0 |
PerspectiveScale | 100 |
PerspectiveVertical | 0 |
PostCropVignetteAmount | 0 |
ProcessVersion | 5.7 |
ProfileDescription | sRGB IEC61966-2.1 |
RedHue | +96 |
RedSaturation | +3 |
Saturation | -71 |
SaturationAdjustmentAqua | 0 |
SaturationAdjustmentBlue | 0 |
SaturationAdjustmentGreen | 0 |
SaturationAdjustmentMagenta | 0 |
SaturationAdjustmentOrange | 0 |
SaturationAdjustmentPurple | 0 |
SaturationAdjustmentRed | 0 |
SaturationAdjustmentYellow | 0 |
SaturationHighlights | 0.0 |
SaturationShadows | 0.0 |
SerialNumber | 6238813 |
Shadows | 57 |
ShadowsClipping | 0.0 |
ShadowsSmoothing | 0.0 |
ShadowTint | +8 |
SharpenDetail | 25 |
SharpenEdgeMasking | 0 |
SharpenRadius | +1.0 |
Sharpness | 121 |
ShutterSpeed | 1/400 |
ShutterSpeedValue | 1/400 |
Smoothing | Very High |
SmoothingMode | Light |
Software | Adobe Photoshop Lightroom 3.4.1 |
SplitToningBalance | 0 |
SplitToningHighlightHue | 0 |
SplitToningHighlightSaturation | 0 |
SplitToningShadowHue | 0 |
SplitToningShadowSaturation | 0 |
Strength | 100.0 |
ToneCurve | 0, 0, 255, 255 |
ToneCurveName | Linear |
Version (1) | 4.0 |
Version | 6.4.1 |
Vibrance | 0 |
VignetteAmount | -61 |
VignetteMidpoint | 34 |
WhiteBalance | Custom |
WhiteClip | 0.490350 |