Felt | Verdi |
AlreadyApplied | True |
BitsPerSample | 8 |
BlueHue | 0 |
BlueSaturation | 0 |
Brightness | 0 |
CameraProfile | Embedded |
ChromaticAberrationB | 0 |
ChromaticAberrationR | 0 |
Clarity | +50 |
ColorComponents | 3 |
ColorNoiseReduction | 43 |
Contrast | 0 |
ConvertToGrayscale | False |
Copyright | Espen Seierstad |
CopyrightFlag | True |
CopyrightNotice | Espen Seierstad |
CreatorTool | Adobe Photoshop Lightroom |
CropAngle | 0 |
CropBottom | 0.934985 |
CropHeight | 450 |
CropLeft | 0.054372 |
CropRight | 0.958814 |
CropTop | 0.255606 |
CropUnit | pixels |
CropWidth | 900 |
Defringe | 0 |
ExifImageHeight | 450 |
ExifImageWidth | 900 |
Exposure | -0.57 |
FillLight | 0 |
GreenHue | 0 |
GreenSaturation | 0 |
HasCrop | True |
HasSettings | True |
HierarchicalSubject | Africa, Afro, Black, Exhausted, Man, NORSK_ver01/01/2009_©Espen Seierstad|LOKALITET|Afrika|Kenya, People, Poverty, Sleep, Tired, Women |
HighlightRecovery | 0 |
HueAdjustmentAqua | 0 |
HueAdjustmentBlue | 0 |
HueAdjustmentGreen | 0 |
HueAdjustmentMagenta | 0 |
HueAdjustmentOrange | 0 |
HueAdjustmentPurple | 0 |
HueAdjustmentRed | +12 |
HueAdjustmentYellow | 0 |
ImageHeight | 450 |
ImageSize | 900x450 |
ImageWidth | 900 |
IncrementalTemperature | 0 |
IncrementalTint | +12 |
Keywords | Africa, Afrika, Afro, Black, Exhausted, Kenya, LOKALITET, Man, NORSK_ver01/01/2009_©Espen Seierstad, People, Poverty, Sleep, Tired, Women |
Label | Blue |
LuminanceAdjustmentAqua | 0 |
LuminanceAdjustmentBlue | -19 |
LuminanceAdjustmentGreen | 0 |
LuminanceAdjustmentMagenta | 0 |
LuminanceAdjustmentOrange | 0 |
LuminanceAdjustmentPurple | 0 |
LuminanceAdjustmentRed | -5 |
LuminanceAdjustmentYellow | -19 |
LuminanceSmoothing | 57 |
Make | Nikon |
Marked | True |
Megapixels | 0.405 |
ModifyDate (1) | 2010:04:28 11:17:52+02:00 |
ModifyDate | 2010:04:28 11:17:52 |
Orientation | Horizontal (normal) |
PaintCorrectionActive | true |
PaintCorrectionAmount | 1.000000 |
PaintCorrectionBrightness | 0.000000 |
PaintCorrectionClarity (1) | 0.350000 |
PaintCorrectionClarity (2) | 0.000000 |
PaintCorrectionClarity | 0.250000 |
PaintCorrectionContrast (1) | 0.600000 |
PaintCorrectionContrast (2) | 0.450000 |
PaintCorrectionContrast | 0.200000 |
PaintCorrectionExposure | 0.050000 |
PaintCorrectionHue | 230.000000 |
PaintCorrectionMaskCenterWeight | 0.000000 |
PaintCorrectionMaskFlow | 1.000000 |
PaintCorrectionMaskRadius | 0.038967 |
PaintCorrectionMaskValue | 1.000000 |
PaintCorrectionMaskWhat | Mask/Paint |
PaintCorrectionSaturation | 0.000000 |
PaintCorrectionSharpness | 0.700000 |
PaintCorrectionWhat | Correction |
ParametricDarks | -24 |
ParametricHighlights | +60 |
ParametricHighlightSplit | 75 |
ParametricLights | +57 |
ParametricMidtoneSplit | 50 |
ParametricShadows | -24 |
ParametricShadowSplit | 25 |
PostCropVignetteAmount | 0 |
ProfileDescription | sRGB IEC61966-2.1 |
Rating | 1 |
RedHue | 0 |
RedSaturation | 0 |
Rights | Espen Seierstad |
Saturation | -12 |
SaturationAdjustmentAqua | -55 |
SaturationAdjustmentBlue | -52 |
SaturationAdjustmentGreen | 0 |
SaturationAdjustmentMagenta | 0 |
SaturationAdjustmentOrange | -2 |
SaturationAdjustmentPurple | 0 |
SaturationAdjustmentRed | -14 |
SaturationAdjustmentYellow | -45 |
SavedSettingsName | Import |
SavedSettingsParametersBlueHue | 0 |
SavedSettingsParametersBlueSaturation | 0 |
SavedSettingsParametersBrightness | 0 |
SavedSettingsParametersCameraProfile | Embedded |
SavedSettingsParametersChromaticAberrationB | 0 |
SavedSettingsParametersChromaticAberrationR | 0 |
SavedSettingsParametersClarity | 0 |
SavedSettingsParametersColorNoiseReduction | 0 |
SavedSettingsParametersContrast | 0 |
SavedSettingsParametersConvertToGrayscale | False |
SavedSettingsParametersDefringe | 0 |
SavedSettingsParametersExposure | 0.00 |
SavedSettingsParametersFillLight | 0 |
SavedSettingsParametersGreenHue | 0 |
SavedSettingsParametersGreenSaturation | 0 |
SavedSettingsParametersHighlightRecovery | 0 |
SavedSettingsParametersHueAdjustmentAqua | 0 |
SavedSettingsParametersHueAdjustmentBlue | 0 |
SavedSettingsParametersHueAdjustmentGreen | 0 |
SavedSettingsParametersHueAdjustmentMagenta | 0 |
SavedSettingsParametersHueAdjustmentOrange | 0 |
SavedSettingsParametersHueAdjustmentPurple | 0 |
SavedSettingsParametersHueAdjustmentRed | 0 |
SavedSettingsParametersHueAdjustmentYellow | 0 |
SavedSettingsParametersIncrementalTemperature | 0 |
SavedSettingsParametersIncrementalTint | 0 |
SavedSettingsParametersLuminanceAdjustmentAqua | 0 |
SavedSettingsParametersLuminanceAdjustmentBlue | 0 |
SavedSettingsParametersLuminanceAdjustmentGreen | 0 |
SavedSettingsParametersLuminanceAdjustmentMagenta | 0 |
SavedSettingsParametersLuminanceAdjustmentOrange | 0 |
SavedSettingsParametersLuminanceAdjustmentPurple | 0 |
SavedSettingsParametersLuminanceAdjustmentRed | 0 |
SavedSettingsParametersLuminanceAdjustmentYellow | 0 |
SavedSettingsParametersLuminanceSmoothing | 0 |
SavedSettingsParametersParametricDarks | 0 |
SavedSettingsParametersParametricHighlights | 0 |
SavedSettingsParametersParametricHighlightSplit | 75 |
SavedSettingsParametersParametricLights | 0 |
SavedSettingsParametersParametricMidtoneSplit | 50 |
SavedSettingsParametersParametricShadows | 0 |
SavedSettingsParametersParametricShadowSplit | 25 |
SavedSettingsParametersPostCropVignetteAmount | 0 |
SavedSettingsParametersRedHue | 0 |
SavedSettingsParametersRedSaturation | 0 |
SavedSettingsParametersSaturation | 0 |
SavedSettingsParametersSaturationAdjustmentAqua | 0 |
SavedSettingsParametersSaturationAdjustmentBlue | 0 |
SavedSettingsParametersSaturationAdjustmentGreen | 0 |
SavedSettingsParametersSaturationAdjustmentMagenta | 0 |
SavedSettingsParametersSaturationAdjustmentOrange | 0 |
SavedSettingsParametersSaturationAdjustmentPurple | 0 |
SavedSettingsParametersSaturationAdjustmentRed | 0 |
SavedSettingsParametersSaturationAdjustmentYellow | 0 |
SavedSettingsParametersShadows | 0 |
SavedSettingsParametersShadowTint | 0 |
SavedSettingsParametersSharpenDetail | 25 |
SavedSettingsParametersSharpenEdgeMasking | 0 |
SavedSettingsParametersSharpenRadius | +1.0 |
SavedSettingsParametersSharpness | 0 |
SavedSettingsParametersSplitToningBalance | 0 |
SavedSettingsParametersSplitToningHighlightHue | 0 |
SavedSettingsParametersSplitToningHighlightSaturation | 0 |
SavedSettingsParametersSplitToningShadowHue | 0 |
SavedSettingsParametersSplitToningShadowSaturation | 0 |
SavedSettingsParametersToneCurve | 0, 0, 255, 255 |
SavedSettingsParametersToneCurveName | Linear |
SavedSettingsParametersVersion | 5.7 |
SavedSettingsParametersVibrance | 0 |
SavedSettingsParametersVignetteAmount | 0 |
SavedSettingsParametersWhiteBalance | As Shot |
SavedSettingsType | Snapshot |
Shadows | 0 |
ShadowTint | 0 |
SharpenDetail | 30 |
SharpenEdgeMasking | 64 |
SharpenRadius | +1.2 |
Sharpness | 102 |
SplitToningBalance | 0 |
SplitToningHighlightHue | 0 |
SplitToningHighlightSaturation | 0 |
SplitToningShadowHue | 0 |
SplitToningShadowSaturation | 0 |
Subject | Africa, Afrika, Afro, Black, Exhausted, Kenya, LOKALITET, Man, NORSK_ver01/01/2009_©Espen Seierstad, People, Poverty, Sleep, Tired, Women |
ToneCurve | 0, 0, 255, 255 |
ToneCurveName | Linear |
Version | 5.7 |
Vibrance | -2 |
VignetteAmount | 0 |
WhiteBalance | Custom |