Felt | Verdi |
AlreadyApplied | True |
Aperture | 13.0 |
ApertureValue | 13.0 |
ApproximateFNumber | 7.5 |
BaseISO | 160 |
BitsPerSample | 8 |
BlueBalance | 0.736591 |
BlueHue | 0 |
BlueSaturation | 0 |
Brightness | +46 |
By-line | Alf M. Sollund |
CameraProfile | Adobe Standard |
CameraTemperature | 15 C |
CaptionWriter | Alf M. Sollund |
ChromaticAberrationB | 0 |
ChromaticAberrationR | 0 |
CircleOfConfusion | 0.006 mm |
Clarity | +15 |
ColorComponents | 3 |
ColorNoiseReduction | 10 |
ColorSpace | Uncalibrated |
ColorTemperature | 4250 |
Contrast (1) | High |
Contrast | Normal |
ConvertToGrayscale | False |
Copyright | Alf M. Sollund |
CopyrightFlag | True |
CopyrightNotice | Alf M. Sollund |
CreateDate (1) | 2010:04:14 17:27:17+02:00 |
CreateDate | 2010:04:14 17:27:17 |
Creator | Alf M. Sollund |
CreatorAddress | Amtmanns gt. 15 |
CreatorCity | Tromsø |
CreatorCountry | Norway |
CreatorPostalCode | 9008 |
CreatorTool | Adobe Photoshop Lightroom |
CreatorWorkEmail | alf-martin.sollund@telenor.com |
CreatorWorkTelephone | +4791889676 |
CreatorWorkURL | http://flyalf.com |
CropAngle | -1 |
CropBottom | 0.897421 |
CropHeight | 681 |
CropLeft | 0.007122 |
CropRight | 0.912864 |
CropTop | 0.025562 |
CropUnit | pixels |
CropWidth | 1024 |
DateTimeDigitized | 2010:04:14 17:27:17+02:00 |
DateTimeOriginal (1) | 2010:04:14 17:27:17+02:00 |
DateTimeOriginal | 2010:04:14 17:27:17 |
Defringe | 0 |
DigitalZoomRatio | 0 |
ExifImageHeight | 681 |
ExifImageWidth | 1024 |
Exposure | +0.30 |
ExposureCompensation | -0.664 |
ExposureMode | Manual |
ExposureProgram | Aperture-priority AE |
ExposureTime | 1/180 |
ExternalSensorBrightnessValue | 5.22 |
FillLight | 60 |
FirmwareVersion | 1.116 |
Flash | No Flash |
FlashFired | False |
FlashFunction | False |
FlashMode | Unknown |
FlashRedEyeMode | False |
FlashReturn | No return detection |
FNumber | 13.0 |
GreenHue | 0 |
GreenSaturation | 0 |
HasCrop | True |
HasSettings | True |
HierarchicalSubject | 15mm, Bornholm, Denmark, Runar_Kabbe, seatrout |
HighlightRecovery | 89 |
HueAdjustmentAqua | 0 |
HueAdjustmentBlue | 0 |
HueAdjustmentGreen | 0 |
HueAdjustmentMagenta | 0 |
HueAdjustmentOrange | 0 |
HueAdjustmentPurple | 0 |
HueAdjustmentRed | 0 |
HueAdjustmentYellow | 0 |
ImageHeight | 681 |
ImageSize | 1024x681 |
ImageWidth | 1024 |
ISO | 200 |
JPEGQuality | Basic |
JPEGSize | 5216x3472 |
Keywords | 15mm, Bornholm, Denmark, Runar_Kabbe, seatrout |
LensID | Uncoded lens |
LensType | Uncoded lens |
LightSource | Unknown |
LightValue | 13.9 |
LuminanceAdjustmentAqua | 0 |
LuminanceAdjustmentBlue | 0 |
LuminanceAdjustmentGreen | 0 |
LuminanceAdjustmentMagenta | 0 |
LuminanceAdjustmentOrange | 0 |
LuminanceAdjustmentPurple | 0 |
LuminanceAdjustmentRed | 0 |
LuminanceAdjustmentYellow | 0 |
LuminanceSmoothing | 0 |
Make | Leica Camera AG |
MakerNoteSafety | Safe |
Marked | True |
MaxApertureValue | 1.0 |
MeasuredLV | 3.72 |
Megapixels | 0.697 |
MeteringMode | Center-weighted average |
Model | M9 Digital Camera |
ModifyDate (1) | 2010:04:22 23:52:08+02:00 |
ModifyDate | 2010:04:22 23:52:08 |
ParametricDarks | -7 |
ParametricHighlights | +15 |
ParametricHighlightSplit | 75 |
ParametricLights | +7 |
ParametricMidtoneSplit | 50 |
ParametricShadows | -15 |
ParametricShadowSplit | 25 |
PostCropVignetteAmount | 0 |
ProfileDescription | sRGB IEC61966-2.1 |
Rating | 5 |
RedBalance | 0.501224 |
RedHue | 0 |
RedSaturation | 0 |
Rights | Alf M. Sollund |
Saturation (1) | High |
Saturation | Normal |
SaturationAdjustmentAqua | 0 |
SaturationAdjustmentBlue | 0 |
SaturationAdjustmentGreen | 0 |
SaturationAdjustmentMagenta | 0 |
SaturationAdjustmentOrange | 0 |
SaturationAdjustmentPurple | 0 |
SaturationAdjustmentRed | 0 |
SaturationAdjustmentYellow | 0 |
ScaleFactor35efl | 5.1 |
SceneCaptureType | Standard |
SceneType | Directly photographed |
SensorBitDepth | 14 |
SensorHeight | 3516 |
SensorWidth | 5270 |
SerialNumber | 3834853 |
Shadows | 5 |
ShadowTint | 0 |
SharpenDetail | 10 |
SharpenEdgeMasking | 0 |
Sharpening | Off |
SharpenRadius | +2.2 |
Sharpness | Hard |
ShutterSpeed | 1/180 |
ShutterSpeedValue | 1/180 |
Software | 1.116; post-processed by CornerFix 1.3.0.4 |
SplitToningBalance | 0 |
SplitToningHighlightHue | 0 |
SplitToningHighlightSaturation | 0 |
SplitToningShadowHue | 0 |
SplitToningShadowSaturation | 0 |
Subject | 15mm, Bornholm, Denmark, Runar_Kabbe, seatrout |
Tint | -9 |
ToneCurve | 0, 0, 32, 22, 64, 56, 128, 128, 192, 196, 255, 255 |
ToneCurveName | Medium Contrast |
URL | http://flyalf.com |
UserProfile | Profile 1 |
Version | 5.6.1 |
Vibrance | +10 |
VignetteAmount | 0 |
WB_RGBLevels | 0.5012236907 1 0.7365912871 |
WebStatement | http://flyalf.com |
WhiteBalance | Auto |
Writer-Editor | Alf M. Sollund |