Felt | Verdi |
2006-06-12T17:18:48+02:00 File G:\Edit pics 17\_DSC4385-Edit.psd saved
2006-06-12T17:20:04+02:00 File G:\Edit pics 17\_DSC4385-Edit.jpg saved
2006-06-12T17:46:36+02:00 File G:\Edit pics 17\_DSC4385-Edit.psd saved
2006-06-12T17:49:12+02:00 File G:\Edit pics 17\_DSC4385-Edit22.jpg saved
2006-06-12T18:29:41+02:00 File G:\Edit pics 17\_DSC4385-Edit22.psd saved
2006-06-12T18:32:12+02:00 File G:\Edit pics 17\_DSC4385-Edit33.jpg saved
2006-06-12T18:53:34+02:00 File G:\Edit pics 17\_DSC4385-Edit33.psd saved
2006-06-12T19:40:08+02:00 File _DSC4385-Edit33.psd opened
2006-06-12T19:46:33+02:00 File G:\Edit pics 17\_DSC4385-Edit55.psd saved
2006-06-13T16:48:02+02:00 File _DSC4385-Edit55.psd opened
2006-06-13T16:52:18+02:00 File G:\Edit pics 17\_DSC4385-Edit55fotono.jpg saved
2006-06-13T16:56:51+02:00 File G:\Edit pics 17\_DSC4385-Edit55fotono.jpg saved
AlreadyApplied | True |
Aperture | 25.0 |
ApertureValue | 25.0 |
Artist | Kjetil Kvien Madsen |
BitsPerSample (1) | 16, 16, 16 |
BitsPerSample (2) | 16 16 16 |
BitsPerSample | 8 |
BlueHue | 0 |
BlueSaturation | 0 |
Brightness | +50 |
By-line | Kjetil Kvien Madsen |
CameraProfile | ACR 4.4 |
CFAPattern | [Red,Green][Green,Blue] |
ChromaticAberrationB | 0 |
ChromaticAberrationR | 0 |
CircleOfConfusion | 0.020 mm |
Clarity | 0 |
ColorComponents | 3 |
ColorMode | RGB |
ColorNoiseReduction | 0 |
ColorSpace | sRGB |
ColorTemperature | 5650 |
Contrast (2) | +25 |
Contrast | Normal |
ConvertToGrayscale | False |
Copyright | Kjetil Kvien Madsen |
CopyrightFlag | False |
CopyrightNotice | Kjetil Kvien Madsen |
CreateDate (1) | 2006:06:13 16:52:18+02:00 |
CreateDate | 2008:06:11 21:52:05 |
Creator | Kjetil Kvien Madsen |
CreatorAddress | Oppsalstubben 6 |
CreatorCity | Oslo |
CreatorCountry | Norway |
CreatorPostalCode | 0685 |
CreatorTool | Adobe Photoshop CS3 Windows |
CreatorWorkEmail | kjetilkm@online.no |
CreatorWorkTelephone | +47 95 24 10 87 |
CreatorWorkURL | www.kkm.smugmug.com |
CustomRendered | Custom |
DateTimeDigitized | 2008:06:11 21:52:05.43+02:00 |
DateTimeOriginal (1) | 2008:06:11 21:52:05.43+02:00 |
DateTimeOriginal | 2008:06:11 21:52:05 |
Defringe | 0 |
DigitalZoomRatio | 1 |
ExifImageHeight | 750 |
ExifImageWidth | 498 |
Exposure | 0.00 |
ExposureCompensation | -7/3 |
ExposureMode | Manual |
ExposureProgram | Manual |
ExposureTime | 10 |
FillLight | 12 |
Flash | No Flash |
FlashFired | False |
FlashFunction | False |
FlashMode | Unknown |
FlashRedEyeMode | False |
FlashReturn | No return detection |
FNumber | 25.0 |
FocalLength | 11.5 mm |
FocalLength35efl | 11.5 mm (35 mm equivalent: 17.0 mm) |
FocalLengthIn35mmFormat | 17 mm |
Format | image/jpeg |
FOV | 93.3 deg |
GainControl | None |
GreenHue | 0 |
GreenSaturation | 0 |
HasCrop | False |
HasSettings | True |
HierarchicalSubject | landskap solnedgang oslofjorden ingjerdstrand hvervenbukta |
HighlightRecovery | 22 |
HueAdjustmentAqua | 0 |
HueAdjustmentBlue | 0 |
HueAdjustmentGreen | 0 |
HueAdjustmentMagenta | 0 |
HueAdjustmentOrange | 0 |
HueAdjustmentPurple | 0 |
HueAdjustmentRed | 0 |
HueAdjustmentYellow | 0 |
HyperfocalDistance | 0.26 m |
ICCProfileName | sRGB IEC61966-2.1 |
ImageHeight (2) | 4288 |
ImageHeight | 750 |
ImageNumber | 4648 |
ImageSize | 498x750 |
ImageWidth (1) | 2848 |
ImageWidth | 498 |
ISO | 100 |
Keywords | landskap solnedgang oslofjorden ingjerdstrand hvervenbukta |
Lens | 10.0-20.0 mm f/4.0-5.6 |
LensInfo | 10-20mm f/4-5.6 |
LightSource | Cloudy |
LightValue | 6.0 |
LuminanceAdjustmentAqua | 0 |
LuminanceAdjustmentBlue | 0 |
LuminanceAdjustmentGreen | 0 |
LuminanceAdjustmentMagenta | 0 |
LuminanceAdjustmentOrange | 0 |
LuminanceAdjustmentPurple | 0 |
LuminanceAdjustmentRed | 0 |
LuminanceAdjustmentYellow | 0 |
LuminanceSmoothing | 0 |
Make | NIKON CORPORATION |
MaxApertureValue | 4.3 |
Megapixels | 0.373 |
MeteringMode | Multi-segment |
Model | NIKON D300 |
ModifyDate (1) | 2006:06:13 16:56:51+02:00 |
ModifyDate | 2006:06:13 16:56:51 |
Orientation | Horizontal (normal) |
ParametricDarks | 0 |
ParametricHighlights | 0 |
ParametricHighlightSplit | 75 |
ParametricLights | 0 |
ParametricMidtoneSplit | 50 |
ParametricShadows | 0 |
ParametricShadowSplit | 25 |
PhotometricInterpretation | RGB |
PlanarConfiguration | Chunky |
ProfileDescription | sRGB IEC61966-2.1 |
RedHue | 0 |
RedSaturation | 0 |
Rights | Kjetil Kvien Madsen |
SamplesPerPixel | 3 |
Saturation (2) | 0 |
Saturation | Normal |
SaturationAdjustmentAqua | 0 |
SaturationAdjustmentBlue | 0 |
SaturationAdjustmentGreen | 0 |
SaturationAdjustmentMagenta | 0 |
SaturationAdjustmentOrange | +46 |
SaturationAdjustmentPurple | 0 |
SaturationAdjustmentRed | 0 |
SaturationAdjustmentYellow | +19 |
ScaleFactor35efl | 1.5 |
SceneCaptureType | Standard |
SceneType | Directly photographed |
SensingMethod | One-chip color area |
Shadows | 5 |
ShadowTint | 0 |
SharpenDetail | 0 |
SharpenEdgeMasking | 0 |
SharpenRadius | +0.5 |
Sharpness (2) | 0 |
Sharpness | Soft |
ShutterSpeed | 10 |
ShutterSpeedValue | 10 |
Software | Adobe Photoshop CS3 Windows |
SplitToningBalance | 0 |
SplitToningHighlightHue | 0 |
SplitToningHighlightSaturation | 0 |
SplitToningShadowHue | 0 |
SplitToningShadowSaturation | 0 |
Subject | landskap solnedgang oslofjorden ingjerdstrand hvervenbukta |
SubjectDistanceRange | Unknown |
Tint | -1 |
ToneCurve | 0, 0, 32, 22, 64, 56, 128, 128, 192, 196, 255, 255 |
ToneCurveName | Medium Contrast |
URL_List | |
UsageTerms | copyright Kjetil Kvien Madsen |
UserComment | COPYRIGHT Kjetil Kvien Madsen |
Version | 4.4.1 |
Vibrance | 0 |
VignetteAmount | 0 |
WhiteBalance (2) | As Shot |
WhiteBalance | Manual |