Felt | Verdi |
2007-03-15T20:58:38+01:00 File G:\Edit pics 17\_DSC2305-Edit ikke skarpet.psd saved
2007-03-16T09:03:02+01:00 File _DSC2305-Edit ikke skarpet.psd opened
2007-03-16T09:14:20+01:00 File G:\Edit pics 17\_DSC2305-Edit ikke skarpet.psd saved
2007-03-16T09:20:01+01:00 File G:\Edit pics 17\_DSC2305-Edit smugt.jpg saved
2007-03-16T09:20:17+01:00 File G:\Edit pics 17\_DSC2305-Edit ikke skarpet.jpg saved
2007-03-16T09:26:31+01:00 File G:\Edit pics 17\fotono.jpg saved
AlreadyApplied | True |
Aperture | 11.0 |
ApertureValue | 11.0 |
Artist | Kjetil Kvien Madsen |
BitsPerSample (1) | 16, 16, 16 |
BitsPerSample (2) | 16 16 16 |
BitsPerSample | 8 |
BlueHue | 0 |
BlueSaturation | 0 |
Brightness | +50 |
By-line | Kjetil Kvien Madsen |
CameraProfile | ACR 4.3 |
CFAPattern | [Red,Green][Green,Blue] |
ChromaticAberrationB | 0 |
ChromaticAberrationR | 0 |
CircleOfConfusion | 0.020 mm |
Clarity | 0 |
ColorComponents | 3 |
ColorMode | RGB |
ColorNoiseReduction | 0 |
ColorSpace | sRGB |
ColorTemperature | 5650 |
Contrast (2) | +25 |
Contrast | Normal |
ConvertToGrayscale | False |
Copyright | Kjetil Kvien Madsen |
CopyrightFlag | False |
CopyrightNotice | Kjetil Kvien Madsen |
CreateDate (1) | 2007:03:16 09:26:31+01:00 |
CreateDate | 2008:03:15 18:51:17 |
Creator | Kjetil Kvien Madsen |
CreatorAddress | Oppsalstubben 6 |
CreatorCity | Oslo |
CreatorCountry | Norway |
CreatorPostalCode | 0685 |
CreatorTool | Adobe Photoshop CS3 Windows |
CreatorWorkEmail | kjetilkm@online.no |
CreatorWorkTelephone | +47 95 24 10 87 |
CreatorWorkURL | www.kkm.smugmug.com |
CropAngle | 0.114697 |
CropBottom | 0.992312 |
CropHeight | 2809 |
CropLeft | 0.001311 |
CropRight | 0.998689 |
CropTop | 0.003067 |
CropUnit | pixels |
CropWidth | 4282 |
CustomRendered | Normal |
DateTimeDigitized | 2008:03:15 18:51:17.14+01:00 |
DateTimeOriginal (1) | 2008:03:15 18:51:17.14+01:00 |
DateTimeOriginal | 2008:03:15 18:51:17 |
Defringe | 0 |
DigitalZoomRatio | 1 |
ExifImageHeight | 562 |
ExifImageWidth | 850 |
Exposure | 0.00 |
ExposureCompensation | -1 |
ExposureMode | Auto |
ExposureProgram | Aperture-priority AE |
ExposureTime | 6 |
FillLight | 39 |
Flash | No Flash |
FlashFired | False |
FlashFunction | False |
FlashMode | Unknown |
FlashRedEyeMode | False |
FlashReturn | No return detection |
FNumber | 11.0 |
FocalLength | 10.0 mm |
FocalLength35efl | 10.0 mm (35 mm equivalent: 15.0 mm) |
FocalLengthIn35mmFormat | 15 mm |
Format | image/jpeg |
FOV | 100.4 deg |
GainControl | None |
GreenHue | 0 |
GreenSaturation | 0 |
HasCrop | True |
HasSettings | True |
HierarchicalSubject | landskap oslo hvervenbukta hvervenbukten |
HighlightRecovery | 58 |
HueAdjustmentAqua | 0 |
HueAdjustmentBlue | 0 |
HueAdjustmentGreen | 0 |
HueAdjustmentMagenta | 0 |
HueAdjustmentOrange | 0 |
HueAdjustmentPurple | 0 |
HueAdjustmentRed | 0 |
HueAdjustmentYellow | 0 |
HyperfocalDistance | 0.45 m |
ICCProfileName | sRGB IEC61966-2.1 |
ImageHeight (2) | 2809 |
ImageHeight | 562 |
ImageNumber | 2509 |
ImageSize | 850x562 |
ImageWidth (1) | 4282 |
ImageWidth | 850 |
ISO | 100 |
Keywords | landskap oslo hvervenbukta hvervenbukten |
Lens | 10.0-20.0 mm f/4.0-5.6 |
LensInfo | 10-20mm f/4-5.6 |
LightSource | Cloudy |
LightValue | 4.3 |
LuminanceAdjustmentAqua | 0 |
LuminanceAdjustmentBlue | -6 |
LuminanceAdjustmentGreen | 0 |
LuminanceAdjustmentMagenta | 0 |
LuminanceAdjustmentOrange | -4 |
LuminanceAdjustmentPurple | -2 |
LuminanceAdjustmentRed | -2 |
LuminanceAdjustmentYellow | 0 |
LuminanceSmoothing | 0 |
Make | NIKON CORPORATION |
MaxApertureValue | 4.0 |
Megapixels | 0.478 |
MeteringMode | Multi-segment |
Model | NIKON D300 |
ModifyDate (1) | 2007:03:16 09:26:31+01:00 |
ModifyDate | 2007:03:16 09:26:31 |
Orientation | Horizontal (normal) |
ParametricDarks | -5 |
ParametricHighlights | 0 |
ParametricHighlightSplit | 75 |
ParametricLights | +5 |
ParametricMidtoneSplit | 50 |
ParametricShadows | 0 |
ParametricShadowSplit | 25 |
PhotometricInterpretation | RGB |
PlanarConfiguration | Chunky |
ProfileDescription | sRGB IEC61966-2.1 |
RedHue | 0 |
RedSaturation | 0 |
Rights | Kjetil Kvien Madsen |
SamplesPerPixel | 3 |
Saturation (2) | 0 |
Saturation | Normal |
SaturationAdjustmentAqua | 0 |
SaturationAdjustmentBlue | +2 |
SaturationAdjustmentGreen | 0 |
SaturationAdjustmentMagenta | 0 |
SaturationAdjustmentOrange | +3 |
SaturationAdjustmentPurple | +1 |
SaturationAdjustmentRed | 0 |
SaturationAdjustmentYellow | 0 |
ScaleFactor35efl | 1.5 |
SceneCaptureType | Standard |
SceneType | Directly photographed |
SensingMethod | One-chip color area |
Shadows | 5 |
ShadowTint | 0 |
SharpenDetail | 2 |
SharpenEdgeMasking | 0 |
SharpenRadius | +0.5 |
Sharpness (2) | 0 |
Sharpness | Soft |
ShutterSpeed | 6 |
ShutterSpeedValue | 6 |
Software | Adobe Photoshop CS3 Windows |
SplitToningBalance | 0 |
SplitToningHighlightHue | 0 |
SplitToningHighlightSaturation | 0 |
SplitToningShadowHue | 0 |
SplitToningShadowSaturation | 0 |
Subject | landskap oslo hvervenbukta hvervenbukten |
SubjectDistanceRange | Unknown |
Tint | -1 |
ToneCurve | 0, 0, 32, 22, 64, 56, 128, 128, 192, 196, 255, 255 |
ToneCurveName | Medium Contrast |
URL_List | |
UsageTerms | copyright Kjetil Kvien Madsen |
UserComment | COPYRIGHT Kjetil Kvien Madsen |
Version | 1.0 |
Vibrance | 0 |
VignetteAmount | 0 |
WhiteBalance (2) | As Shot |
WhiteBalance | Manual |