Felt | Verdi |
AlreadyApplied | True |
Aperture | 3.2 |
ApertureValue | 3.2 |
BitsPerSample | 8 |
BlueHue | +11 |
BlueSaturation | -4 |
Brightness | +50 |
BrightnessValue | -3.75 |
By-line | Øystein Mehus |
CameraProfile | ACR 4.2 |
Caption-Abstract | Kjempen Finn støtter en av søylene i krypten. |
ChromaticAberrationB | 0 |
ChromaticAberrationR | 0 |
CircleOfConfusion | 0.020 mm |
City | Lund |
Clarity | 100 |
ColorComponents | 3 |
ColorNoiseReduction | 25 |
ColorTemperature | 2850 |
Contrast (2) | +25 |
Contrast | Normal |
ConvertToGrayscale | False |
Copyright | Oystein Mehus |
CopyrightNotice | Øystein Mehus |
Country | Sweden |
Country-PrimaryLocationName | Sweden |
CreateDate | 2007:11:07 11:25:27 |
Creator | Øystein Mehus |
CreatorAddress | Nedre Malthaug 2 |
CreatorCity | Stavanger |
CreatorCountry | Norway |
CreatorPostalCode | 4046 |
CreatorTool | Adobe Photoshop Lightroom |
CustomRendered | Normal |
DateTimeDigitized | 2007:11:07 11:25:27+01:00 |
DateTimeOriginal (1) | 2007:11:07 11:25:27+01:00 |
DateTimeOriginal | 2007:11:07 11:25:27 |
Defringe | 0 |
Description | Kjempen Finn støtter en av søylene i krypten. |
DigitalZoomRatio | 0 |
Exposure | 0.00 |
ExposureCompensation | 0 |
ExposureMode | Auto |
ExposureProgram | Aperture-priority AE |
ExposureTime | 1/4 |
FillLight | 0 |
Flash | Off, Did not fire |
FlashFired | False |
FlashFunction | False |
FlashMode | Off |
FlashRedEyeMode | False |
FlashReturn | No return detection |
FNumber | 3.2 |
FocalLength | 50.0 mm |
FocalLength35efl | 50.0 mm (35 mm equivalent: 75.0 mm) |
FocalLengthIn35mmFormat | 75 mm |
FOV | 27.0 deg |
GreenHue | -30 |
GreenSaturation | -20 |
HasCrop | False |
HasSettings | True |
HighlightRecovery | 0 |
HueAdjustmentAqua | 0 |
HueAdjustmentBlue | 0 |
HueAdjustmentGreen | 0 |
HueAdjustmentMagenta | 0 |
HueAdjustmentOrange | 0 |
HueAdjustmentPurple | 0 |
HueAdjustmentRed | 0 |
HueAdjustmentYellow | 0 |
HyperfocalDistance | 39.00 m |
ImageDescription | Kjempen Finn stotter en av soylene i krypten. |
ImageHeight | 768 |
ImageSize | 512x768 |
ImageWidth | 512 |
ISO | 1600 |
Keywords | Bygg, Kirke |
LightSource | Unknown |
LightValue | 1.4 |
Location | Lunds Domkyrka |
LuminanceAdjustmentAqua | 0 |
LuminanceAdjustmentBlue | 0 |
LuminanceAdjustmentGreen | 0 |
LuminanceAdjustmentMagenta | 0 |
LuminanceAdjustmentOrange | 0 |
LuminanceAdjustmentPurple | 0 |
LuminanceAdjustmentRed | 0 |
LuminanceAdjustmentYellow | 0 |
LuminanceSmoothing | 0 |
Make | SONY |
Marked | True |
MaxApertureValue | 1.4 |
Megapixels | 0.393 |
MeteringMode | Multi-segment |
Model | DSLR-A700 |
ModifyDate (1) | 2007:11:08 23:14:39+01:00 |
ModifyDate | 2007:11:08 23:14:39 |
ParametricDarks | -24 |
ParametricHighlights | +22 |
ParametricHighlightSplit | 75 |
ParametricLights | +16 |
ParametricMidtoneSplit | 50 |
ParametricShadows | 0 |
ParametricShadowSplit | 25 |
ProfileDescription | sRGB IEC61966-2.1 |
Province-State | Skåne |
Rating | 3 |
RedHue | -25 |
RedSaturation | +40 |
Rights | Øystein Mehus |
Saturation (2) | 0 |
Saturation | Normal |
SaturationAdjustmentAqua | 0 |
SaturationAdjustmentBlue | 0 |
SaturationAdjustmentGreen | 0 |
SaturationAdjustmentMagenta | 0 |
SaturationAdjustmentOrange | 0 |
SaturationAdjustmentPurple | 0 |
SaturationAdjustmentRed | 0 |
SaturationAdjustmentYellow | 0 |
ScaleFactor35efl | 1.5 |
Scene | Krypten |
SceneCaptureType | Standard |
SceneType | Directly photographed |
Shadows | 5 |
ShadowTint | 0 |
SharpenDetail | 25 |
SharpenEdgeMasking | 0 |
SharpenRadius | +1.0 |
Sharpness (2) | 25 |
Sharpness | Normal |
ShutterSpeed | 1/4 |
ShutterSpeedValue | 1/4 |
Software | DSLR-A700 v02 |
SplitToningBalance | 0 |
SplitToningHighlightHue | 0 |
SplitToningHighlightSaturation | 0 |
SplitToningShadowHue | 0 |
SplitToningShadowSaturation | 0 |
State | Skåne |
Sub-location | Lunds Domkyrka |
Subject | Bygg, Kirke |
Tint | 0 |
ToneCurve | 0, 0, 32, 22, 64, 56, 128, 128, 192, 196, 255, 255 |
ToneCurveName | Medium Contrast |
UsageTerms | All rights reserved |
Version | 1.0 |
Vibrance | 0 |
VignetteAmount | 0 |
WhiteBalance | Auto |