Felt | Verdi |
AlreadyApplied | True |
Aperture | 11.0 |
ApertureValue | 11.0 |
ApproximateFocusDistance | 4294967295 |
AutoLateralCA | 0 |
BitsPerSample | 8 |
Blacks2012 | +28 |
BlueHue | 0 |
BlueSaturation | 0 |
CameraProfile | Embedded |
CircGradBasedCorrActive | true |
CircGradBasedCorrAmount | 1.000000 |
CircGradBasedCorrBrightness | 0.000000 |
CircGradBasedCorrClarity2012 (4) | 0.005520 |
CircGradBasedCorrClarity2012 (7) | 0.082870 |
CircGradBasedCorrClarity2012 | 0.000000 |
CircGradBasedCorrContrast2012 (4) | 0.436460 |
CircGradBasedCorrContrast2012 (7) | 0.000000 |
CircGradBasedCorrContrast2012 | -0.060770 |
CircGradBasedCorrCorrectionRangeMaskColorAmount | 0.500000 |
CircGradBasedCorrCorrectionRangeMaskDepthFeather | 0.500000 |
CircGradBasedCorrCorrectionRangeMaskDepthMax | 1.000000 |
CircGradBasedCorrCorrectionRangeMaskDepthMin | 0.000000 |
CircGradBasedCorrCorrectionRangeMaskLumFeather | 0.500000 |
CircGradBasedCorrCorrectionRangeMaskLumMax | 1.000000 |
CircGradBasedCorrCorrectionRangeMaskLumMin | 0.000000 |
CircGradBasedCorrCorrectionRangeMaskType | 0 |
CircGradBasedCorrCorrectionRangeMaskVersion | +2 |
CircGradBasedCorrDefringe | 0.000000 |
CircGradBasedCorrExposure2012 (7) | 0.248500 |
CircGradBasedCorrExposure2012 | 0.000000 |
CircGradBasedCorrHighlights2012 (1) | 0.558010 |
CircGradBasedCorrHighlights2012 (10) | 0.248620 |
CircGradBasedCorrHighlights2012 (2) | 0.546960 |
CircGradBasedCorrHighlights2012 (3) | 0.414360 |
CircGradBasedCorrHighlights2012 (4) | 0.458560 |
CircGradBasedCorrHighlights2012 | 0.000000 |
CircGradBasedCorrHue | 0.000000 |
CircGradBasedCorrLocalBlacks2012 (8) | 0.038670 |
CircGradBasedCorrLocalBlacks2012 | 0.000000 |
CircGradBasedCorrLocalDehaze (6) | 0.082870 |
CircGradBasedCorrLocalDehaze (7) | -0.392270 |
CircGradBasedCorrLocalDehaze | 0.000000 |
CircGradBasedCorrLocalHue | 0.000000 |
CircGradBasedCorrLocalTexture (3) | -0.624310 |
CircGradBasedCorrLocalTexture (6) | -0.856350 |
CircGradBasedCorrLocalTexture | 0.000000 |
CircGradBasedCorrLocalWhites2012 (1) | 0.558010 |
CircGradBasedCorrLocalWhites2012 (10) | 0.193370 |
CircGradBasedCorrLocalWhites2012 (11) | 1.000000 |
CircGradBasedCorrLocalWhites2012 (2) | 0.292820 |
CircGradBasedCorrLocalWhites2012 (3) | 0.701660 |
CircGradBasedCorrLocalWhites2012 (4) | 0.745860 |
CircGradBasedCorrLocalWhites2012 (5) | 0.303870 |
CircGradBasedCorrLocalWhites2012 (7) | 0.359120 |
CircGradBasedCorrLocalWhites2012 (8) | 0.000000 |
CircGradBasedCorrLocalWhites2012 (9) | 0.171270 |
CircGradBasedCorrLocalWhites2012 | 0.591160 |
CircGradBasedCorrLuminanceNoise | 0.000000 |
CircGradBasedCorrMaskAngle (10) | -2.152970 |
CircGradBasedCorrMaskAngle (11) | -6.096460 |
CircGradBasedCorrMaskAngle (2) | 4.184020 |
CircGradBasedCorrMaskAngle (3) | 0.000000 |
CircGradBasedCorrMaskAngle (4) | 11.669800 |
CircGradBasedCorrMaskAngle (5) | -10.677900 |
CircGradBasedCorrMaskAngle (8) | 21.724900 |
CircGradBasedCorrMaskAngle (9) | -2.593910 |
CircGradBasedCorrMaskAngle | 30.849600 |
CircGradBasedCorrMaskBottom (1) | 0.461638 |
CircGradBasedCorrMaskBottom (10) | 0.513916 |
CircGradBasedCorrMaskBottom (11) | 0.290654 |
CircGradBasedCorrMaskBottom (2) | 0.711736 |
CircGradBasedCorrMaskBottom (3) | 0.838169 |
CircGradBasedCorrMaskBottom (4) | 0.905323 |
CircGradBasedCorrMaskBottom (5) | 0.602147 |
CircGradBasedCorrMaskBottom (6) | 0.584784 |
CircGradBasedCorrMaskBottom (7) | 0.927144 |
CircGradBasedCorrMaskBottom (8) | 1.104680 |
CircGradBasedCorrMaskBottom (9) | 0.614171 |
CircGradBasedCorrMaskBottom | 1.055470 |
CircGradBasedCorrMaskFeather | +50 |
CircGradBasedCorrMaskFlipped | true |
CircGradBasedCorrMaskLeft (1) | 0.114311 |
CircGradBasedCorrMaskLeft (10) | -0.047385 |
CircGradBasedCorrMaskLeft (11) | 0.305839 |
CircGradBasedCorrMaskLeft (2) | 0.504682 |
CircGradBasedCorrMaskLeft (3) | -0.190804 |
CircGradBasedCorrMaskLeft (4) | 0.319937 |
CircGradBasedCorrMaskLeft (5) | 0.145401 |
CircGradBasedCorrMaskLeft (6) | 0.383756 |
CircGradBasedCorrMaskLeft (7) | 0.249678 |
CircGradBasedCorrMaskLeft (8) | 0.540768 |
CircGradBasedCorrMaskLeft (9) | -0.059611 |
CircGradBasedCorrMaskLeft | 0.298829 |
CircGradBasedCorrMaskMidpoint | +50 |
CircGradBasedCorrMaskRight (1) | 1.167170 |
CircGradBasedCorrMaskRight (10) | 0.225297 |
CircGradBasedCorrMaskRight (11) | 0.658492 |
CircGradBasedCorrMaskRight (2) | 0.969318 |
CircGradBasedCorrMaskRight (3) | 0.463257 |
CircGradBasedCorrMaskRight (4) | 0.654708 |
CircGradBasedCorrMaskRight (5) | 0.306682 |
CircGradBasedCorrMaskRight (6) | 0.470563 |
CircGradBasedCorrMaskRight (7) | 0.672539 |
CircGradBasedCorrMaskRight (8) | 0.524123 |
CircGradBasedCorrMaskRight (9) | 0.176500 |
CircGradBasedCorrMaskRight | 0.494468 |
CircGradBasedCorrMaskRoundness | 0 |
CircGradBasedCorrMaskTop (1) | 0.174081 |
CircGradBasedCorrMaskTop (10) | 0.512517 |
CircGradBasedCorrMaskTop (11) | 0.205799 |
CircGradBasedCorrMaskTop (2) | 0.484911 |
CircGradBasedCorrMaskTop (3) | 0.563507 |
CircGradBasedCorrMaskTop (4) | 0.506669 |
CircGradBasedCorrMaskTop (5) | 0.550659 |
CircGradBasedCorrMaskTop (6) | 0.393939 |
CircGradBasedCorrMaskTop (7) | 0.520953 |
CircGradBasedCorrMaskTop (8) | 0.223500 |
CircGradBasedCorrMaskTop (9) | 0.601818 |
CircGradBasedCorrMaskTop | 0.696952 |
CircGradBasedCorrMaskValue | 1.000000 |
CircGradBasedCorrMaskVersion | +2 |
CircGradBasedCorrMaskWhat | Mask/CircularGradient |
CircGradBasedCorrMoire | 0.000000 |
CircGradBasedCorrSaturation (23) | -0.182320 |
CircGradBasedCorrSaturation | 0.000000 |
CircGradBasedCorrShadows2012 (4) | 0.325970 |
CircGradBasedCorrShadows2012 | 0.000000 |
CircGradBasedCorrSharpness | 0.000000 |
CircGradBasedCorrTemperature | 0.250000 |
CircGradBasedCorrTint | 0.000000 |
CircGradBasedCorrWhat | Correction |
CircleOfConfusion | 0.008 mm |
Clarity2012 | +17 |
ColorComponents | 3 |
ColorGradeBlending | 50 |
ColorGradeGlobalHue | 0 |
ColorGradeGlobalLum | 0 |
ColorGradeGlobalSat | 0 |
ColorGradeHighlightLum | 0 |
ColorGradeMidtoneHue | 0 |
ColorGradeMidtoneLum | 0 |
ColorGradeMidtoneSat | 0 |
ColorGradeShadowLum | 0 |
ColorNoiseReduction | 0 |
ColorSpace | sRGB |
ColorTransform | YCbCr |
Contrast2012 | +33 |
ConvertToGrayscale | True |
CreateDate (1) | 2021:08:29 10:27:36.83+01:00 |
CreateDate | 2021:08:29 10:27:36 |
CreatorTool | Adobe Photoshop Lightroom Classic 10.4 (Windows) |
CropAngle | 0 |
CropBottom | 1 |
CropConstrainToWarp | 0 |
CropLeft | 0 |
CropRight | 1 |
CropTop | 0 |
DateCreated (1) | 2021:08:29 |
DateCreated | 2021:08:29 10:27:36.83+01:00 |
DateTimeOriginal | 2021:08:29 10:27:36 |
Dehaze | 0 |
DistortionCorrectionAlreadyApplied | True |
DOF | inf (4.08 m - inf) |
Exposure2012 | -0.49 |
ExposureCompensation | 0 |
ExposureMode | Manual |
ExposureProgram | Manual |
ExposureTime | 1/80 |
Firmware | 1.0.0 |
Flash | No Flash |
FlashCompensation | 0 |
FNumber | 11.0 |
FocalLength | 19.0 mm |
FocalLength35efl | 19.0 mm (35 mm equivalent: 70.9 mm) |
Format | image/jpeg |
FOV | 28.5 deg |
GradientBasedCorrActive | true |
GradientBasedCorrAmount | 1.000000 |
GradientBasedCorrBrightness | 0.000000 |
GradientBasedCorrClarity2012 | 0.248620 |
GradientBasedCorrContrast2012 | 0.000000 |
GradientBasedCorrCorrectionRangeMaskColorAmount | 0.500000 |
GradientBasedCorrCorrectionRangeMaskDepthFeather | 0.500000 |
GradientBasedCorrCorrectionRangeMaskDepthMax | 1.000000 |
GradientBasedCorrCorrectionRangeMaskDepthMin | 0.000000 |
GradientBasedCorrCorrectionRangeMaskLumFeather | 0.500000 |
GradientBasedCorrCorrectionRangeMaskLumMax | 1.000000 |
GradientBasedCorrCorrectionRangeMaskLumMin | 0.000000 |
GradientBasedCorrCorrectionRangeMaskType | 0 |
GradientBasedCorrCorrectionRangeMaskVersion | +2 |
GradientBasedCorrDefringe | 0.000000 |
GradientBasedCorrExposure2012 | -0.160250 |
GradientBasedCorrHighlights2012 | 0.000000 |
GradientBasedCorrHue | 0.000000 |
GradientBasedCorrLocalBlacks2012 | 0.000000 |
GradientBasedCorrLocalDehaze | 0.000000 |
GradientBasedCorrLocalHue | 0.000000 |
GradientBasedCorrLocalTexture | 0.000000 |
GradientBasedCorrLocalWhites2012 | 0.000000 |
GradientBasedCorrLuminanceNoise | 0.000000 |
GradientBasedCorrMaskFullX | 0.460212 |
GradientBasedCorrMaskFullY | 0.291026 |
GradientBasedCorrMaskValue | 1.000000 |
GradientBasedCorrMaskWhat | Mask/Gradient |
GradientBasedCorrMaskZeroX | 0.451654 |
GradientBasedCorrMaskZeroY | 0.425532 |
GradientBasedCorrMoire | 0.000000 |
GradientBasedCorrSaturation | 0.000000 |
GradientBasedCorrShadows2012 | 0.000000 |
GradientBasedCorrSharpness | 0.000000 |
GradientBasedCorrTemperature | 0.250000 |
GradientBasedCorrTint | 0.000000 |
GradientBasedCorrWhat | Correction |
GrainAmount | 0 |
GrayMixerAqua | 0 |
GrayMixerBlue | 0 |
GrayMixerGreen | 0 |
GrayMixerMagenta | 0 |
GrayMixerOrange | 0 |
GrayMixerPurple | 0 |
GrayMixerRed | 0 |
GrayMixerYellow | 0 |
GreenHue | 0 |
GreenSaturation | 0 |
HasCrop | False |
HasSettings | True |
Highlights2012 | +34 |
HyperfocalDistance | 4.08 m |
ImageHeight | 1200 |
ImageNumber | 0 |
ImageSize | 1800x1200 |
ImageWidth | 1800 |
IncrementalTemperature | 0 |
IncrementalTint | 0 |
ISO | 400 |
LateralChromaticAberrationCorrectionAlreadyApplied | True |
Lens | EF16-35mm f/2.8L II USM |
LensID (1) | 246 |
LensID | Canon EF 16-35mm f/2.8L II USM |
LensInfo | 16-35mm f/? |
LensManualDistortionAmount | 0 |
LensModel | EF16-35mm f/2.8L II USM |
LensProfileEnable | 0 |
LensSerialNumber | 0000000000 |
LightValue | 11.2 |
LuminanceSmoothing | 0 |
Make | Canon |
MaxApertureValue | 2.8 |
Megapixels | 2.2 |
MeteringMode | Multi-segment |
Model | Canon EOS R |
ModifyDate (1) | 2021:09:02 15:32:09+02:00 |
ModifyDate | 2021:09:02 15:32:09 |
OverrideLookVignette | False |
ParametricDarks | 0 |
ParametricHighlights | 0 |
ParametricHighlightSplit | 75 |
ParametricLights | 0 |
ParametricMidtoneSplit | 50 |
ParametricShadows | 0 |
ParametricShadowSplit | 25 |
PerspectiveAspect | 0 |
PerspectiveHorizontal | 0 |
PerspectiveRotate | 0.0 |
PerspectiveScale | 100 |
PerspectiveUpright | 0 |
PerspectiveVertical | 0 |
PerspectiveX | 0.00 |
PerspectiveY | 0.00 |
PhotographicSensitivity | 400 |
PostCropVignetteAmount | 0 |
PreservedFileName | IMGL7536.CR3 |
ProcessVersion | 11.0 |
ProfileDescription | sRGB IEC61966-2.1 |
RawFileName | |
RedHue | 0 |
RedSaturation | 0 |
ScaleFactor35efl | 3.7 |
SceneCaptureType | Standard |
SerialNumber | 043021000707 |
Shadows2012 | 0 |
ShadowTint | 0 |
Sharpness | 0 |
ShutterSpeed | 1/80 |
ShutterSpeedValue | 1/80 |
Software | Adobe Photoshop Lightroom Classic 10.4 (Windows) |
SplitToningBalance | 0 |
SplitToningHighlightHue | 0 |
SplitToningHighlightSaturation | 0 |
SplitToningShadowHue | 0 |
SplitToningShadowSaturation | 0 |
Texture | 0 |
ToneCurveName2012 | Linear |
ToneCurvePV2012 | 0, 0, 255, 255 |
ToneCurvePV2012Blue | 0, 0, 255, 255 |
ToneCurvePV2012Green | 0, 0, 255, 255 |
ToneCurvePV2012Red | 0, 0, 255, 255 |
Version | 13.3 |
VignetteAmount | 0 |
VignetteCorrectionAlreadyApplied | True |
WhiteBalance (1) | As Shot |
WhiteBalance | Auto |
Whites2012 | +10 |