Felt | Verdi |
AlreadyApplied | True |
Aperture | 9.0 |
ApertureValue | 9.0 |
AutoLateralCA | 1 |
BitsPerSample | 8 |
Blacks2012 | +8 |
BlueHue | 0 |
BlueSaturation | 0 |
BrightnessValue | 10.1 |
CameraProfile | Camera ACROS+R FILTER |
CircleOfConfusion | 0.038 mm |
Clarity2012 | 0 |
ColorComponents | 3 |
ColorGradeBlending | 50 |
ColorGradeGlobalHue | 0 |
ColorGradeGlobalLum | 0 |
ColorGradeGlobalSat | 0 |
ColorGradeHighlightLum | 0 |
ColorGradeMidtoneHue | 0 |
ColorGradeMidtoneLum | 0 |
ColorGradeMidtoneSat | 0 |
ColorGradeShadowLum | 0 |
ColorNoiseReduction | 25 |
ColorNoiseReductionDetail | 50 |
ColorNoiseReductionSmoothness | 50 |
ColorSpace | sRGB |
ColorTemperature | 5000 |
ColorTransform | YCbCr |
Contrast2012 | 0 |
ConvertToGrayscale | True |
CreateDate | 2021:01:31 15:30:42 |
CreatorTool | Adobe Photoshop Lightroom Classic 10.1.1 (Macintosh) |
CropAngle | 0 |
CropBottom | 1 |
CropConstrainToWarp | 0 |
CropLeft | 0 |
CropRight | 1 |
CropTop | 0 |
CustomRendered | Custom |
DateCreated (1) | 2021:01:31 |
DateCreated | 2021:01:31 15:30:42 |
DateTimeOriginal | 2021:01:31 15:30:42 |
Dehaze | 0 |
DistortionCorrectionAlreadyApplied | True |
Exposure2012 | -0.20 |
ExposureCompensation | 0 |
ExposureMode | Auto |
ExposureProgram | Aperture-priority AE |
ExposureTime | 1/950 |
Flash | No Flash |
FNumber | 9.0 |
FocalLength | 45.0 mm |
FocalLength35efl | 45.0 mm (35 mm equivalent: 36.0 mm) |
FocalLengthIn35mmFormat | 36 mm |
Format | image/jpeg |
FOV | 53.1 deg |
FujiRatingAlreadyApplied | True |
GrainAmount | 0 |
GreenHue | 0 |
GreenSaturation | 0 |
HasCrop | False |
HasSettings | True |
Highlights2012 | 0 |
HyperfocalDistance | 5.99 m |
ImageHeight | 6192 |
ImageSize | 8256x6192 |
ImageWidth | 8256 |
ISO | 400 |
LateralChromaticAberrationCorrectionAlreadyApplied | True |
Lens | GF45mmF2.8 R WR |
LensInfo | 45mm f/2.8 |
LensMake | FUJIFILM |
LensManualDistortionAmount | 0 |
LensModel | GF45mmF2.8 R WR |
LensProfileEnable | 0 |
LensSerialNumber | 2476985605 |
LightSource | Unknown |
LightValue | 14.2 |
LuminanceSmoothing | 0 |
Make | FUJIFILM |
MaxApertureValue | 2.8 |
Megapixels | 51.1 |
MeteringMode | Multi-segment |
Model | GFX 50R |
ModifyDate (1) | 2021:02:02 15:32:11+01:00 |
ModifyDate | 2021:02:02 15:32:11 |
OverrideLookVignette | False |
ParametricDarks | 0 |
ParametricHighlights | 0 |
ParametricHighlightSplit | 75 |
ParametricLights | 0 |
ParametricMidtoneSplit | 50 |
ParametricShadows | 0 |
ParametricShadowSplit | 25 |
PerspectiveAspect | 0 |
PerspectiveHorizontal | 0 |
PerspectiveRotate | 0.0 |
PerspectiveScale | 100 |
PerspectiveUpright | 0 |
PerspectiveVertical | 0 |
PerspectiveX | 0.00 |
PerspectiveY | 0.00 |
PostCropVignetteAmount | 0 |
PreservedFileName | DSCF2620.RAF |
ProcessVersion | 11.0 |
ProfileDescription | sRGB IEC61966-2.1 |
RawFileName | 31012021-DSCF2620.RAF |
RedHue | 0 |
RedSaturation | 0 |
ScaleFactor35efl | 0.8 |
SceneCaptureType | Standard |
SceneType | Directly photographed |
SensingMethod | One-chip color area |
SensitivityType | Standard Output Sensitivity |
SerialNumber | 91051888 |
Shadows2012 | 0 |
ShadowTint | 0 |
SharpenDetail | 25 |
SharpenEdgeMasking | 0 |
SharpenRadius | +1.0 |
Sharpness (1) | 40 |
Sharpness | Normal |
ShutterSpeed | 1/950 |
ShutterSpeedValue | 1/950 |
Software | Adobe Photoshop Lightroom Classic 10.1.1 (Macintosh) |
SplitToningBalance | 0 |
SplitToningHighlightHue | 0 |
SplitToningHighlightSaturation | 0 |
SplitToningShadowHue | 0 |
SplitToningShadowSaturation | 0 |
StandardOutputSensitivity | 400 |
SubjectDistanceRange | Unknown |
Texture | 0 |
Tint | +19 |
ToneCurveName2012 | Linear |
ToneCurvePV2012 | 0, 0, 255, 255 |
ToneCurvePV2012Blue | 0, 0, 255, 255 |
ToneCurvePV2012Green | 0, 0, 255, 255 |
ToneCurvePV2012Red | 0, 0, 255, 255 |
Version | 13.1 |
VignetteAmount | 0 |
VignetteCorrectionAlreadyApplied | True |
WhiteBalance (1) | As Shot |
WhiteBalance | Auto |
Whites2012 | +37 |