Felt | Verdi |
AlreadyApplied | True |
Aperture | 5.6 |
ApertureValue | 5.6 |
ApproximateFocusDistance | 4294967295 |
AutoLateralCA | 0 |
BitsPerSample | 8 |
Blacks2012 | 0 |
BlueHue | 0 |
BlueSaturation | 0 |
CameraProfile | Embedded |
CircGradBasedCorrActive | true |
CircGradBasedCorrAmount | 1.000000 |
CircGradBasedCorrBrightness | 0.000000 |
CircGradBasedCorrClarity2012 (1) | 0.456520 |
CircGradBasedCorrClarity2012 | 0.000000 |
CircGradBasedCorrContrast2012 | 0.000000 |
CircGradBasedCorrCorrectionRangeMaskColorAmount | 0.500000 |
CircGradBasedCorrCorrectionRangeMaskDepthFeather | 0.500000 |
CircGradBasedCorrCorrectionRangeMaskDepthMax | 1.000000 |
CircGradBasedCorrCorrectionRangeMaskDepthMin | 0.000000 |
CircGradBasedCorrCorrectionRangeMaskLumFeather | 0.500000 |
CircGradBasedCorrCorrectionRangeMaskLumMax | 1.000000 |
CircGradBasedCorrCorrectionRangeMaskLumMin | 0.000000 |
CircGradBasedCorrCorrectionRangeMaskType | 0 |
CircGradBasedCorrCorrectionRangeMaskVersion | +2 |
CircGradBasedCorrDefringe | 0.000000 |
CircGradBasedCorrExposure2012 (3) | 0.000000 |
CircGradBasedCorrExposure2012 | -0.333250 |
CircGradBasedCorrHighlights2012 (1) | 0.315790 |
CircGradBasedCorrHighlights2012 (14) | 0.000000 |
CircGradBasedCorrHighlights2012 (16) | 0.391300 |
CircGradBasedCorrHighlights2012 (17) | 0.369570 |
CircGradBasedCorrHighlights2012 (18) | -0.369570 |
CircGradBasedCorrHighlights2012 (4) | 1.000000 |
CircGradBasedCorrHighlights2012 (9) | 0.586960 |
CircGradBasedCorrHighlights2012 | 0.608700 |
CircGradBasedCorrHue | 0.000000 |
CircGradBasedCorrLocalBlacks2012 (12) | -0.021740 |
CircGradBasedCorrLocalBlacks2012 (18) | 0.000000 |
CircGradBasedCorrLocalBlacks2012 (5) | 0.304350 |
CircGradBasedCorrLocalBlacks2012 (6) | 0.173910 |
CircGradBasedCorrLocalBlacks2012 (7) | 0.108700 |
CircGradBasedCorrLocalBlacks2012 | 0.086960 |
CircGradBasedCorrLocalDehaze (18) | 0.217390 |
CircGradBasedCorrLocalDehaze (19) | -1.000000 |
CircGradBasedCorrLocalDehaze (3) | 0.000000 |
CircGradBasedCorrLocalDehaze | -0.369570 |
CircGradBasedCorrLocalHue | 0.000000 |
CircGradBasedCorrLocalTexture | 0.000000 |
CircGradBasedCorrLocalWhites2012 (10) | 0.543480 |
CircGradBasedCorrLocalWhites2012 (11) | -0.173910 |
CircGradBasedCorrLocalWhites2012 (12) | -0.195650 |
CircGradBasedCorrLocalWhites2012 (13) | -0.282610 |
CircGradBasedCorrLocalWhites2012 (14) | -0.326090 |
CircGradBasedCorrLocalWhites2012 (15) | 0.478260 |
CircGradBasedCorrLocalWhites2012 (17) | 0.000000 |
CircGradBasedCorrLocalWhites2012 (18) | 0.913040 |
CircGradBasedCorrLocalWhites2012 (19) | -0.260870 |
CircGradBasedCorrLocalWhites2012 (2) | 1.000000 |
CircGradBasedCorrLocalWhites2012 (8) | 0.847830 |
CircGradBasedCorrLocalWhites2012 (9) | 0.260870 |
CircGradBasedCorrLocalWhites2012 | 0.192980 |
CircGradBasedCorrLuminanceNoise | 0.000000 |
CircGradBasedCorrMaskAngle (10) | 40.995300 |
CircGradBasedCorrMaskAngle (11) | 32.938900 |
CircGradBasedCorrMaskAngle (12) | 1.128940 |
CircGradBasedCorrMaskAngle (9) | 0.000000 |
CircGradBasedCorrMaskAngle | 1.249230 |
CircGradBasedCorrMaskBottom (1) | 0.148848 |
CircGradBasedCorrMaskBottom (10) | 0.530941 |
CircGradBasedCorrMaskBottom (11) | 0.538061 |
CircGradBasedCorrMaskBottom (12) | 0.105392 |
CircGradBasedCorrMaskBottom (13) | 0.217415 |
CircGradBasedCorrMaskBottom (14) | 0.817757 |
CircGradBasedCorrMaskBottom (15) | 0.844237 |
CircGradBasedCorrMaskBottom (16) | 0.777870 |
CircGradBasedCorrMaskBottom (17) | 0.780921 |
CircGradBasedCorrMaskBottom (18) | 0.126733 |
CircGradBasedCorrMaskBottom (19) | 0.865780 |
CircGradBasedCorrMaskBottom (2) | 0.741541 |
CircGradBasedCorrMaskBottom (3) | 0.813090 |
CircGradBasedCorrMaskBottom (4) | 0.813644 |
CircGradBasedCorrMaskBottom (5) | 0.736272 |
CircGradBasedCorrMaskBottom (6) | 0.937881 |
CircGradBasedCorrMaskBottom (7) | 0.920965 |
CircGradBasedCorrMaskBottom (8) | 0.913755 |
CircGradBasedCorrMaskBottom (9) | 0.771492 |
CircGradBasedCorrMaskBottom | 0.145320 |
CircGradBasedCorrMaskFeather | +50 |
CircGradBasedCorrMaskFlipped | true |
CircGradBasedCorrMaskLeft (1) | 0.485865 |
CircGradBasedCorrMaskLeft (10) | 0.573009 |
CircGradBasedCorrMaskLeft (11) | 0.419785 |
CircGradBasedCorrMaskLeft (12) | 0.508001 |
CircGradBasedCorrMaskLeft (13) | 0.505026 |
CircGradBasedCorrMaskLeft (14) | 0.238394 |
CircGradBasedCorrMaskLeft (15) | 0.723965 |
CircGradBasedCorrMaskLeft (16) | 0.538084 |
CircGradBasedCorrMaskLeft (17) | 0.431539 |
CircGradBasedCorrMaskLeft (18) | 0.463480 |
CircGradBasedCorrMaskLeft (19) | 0.604646 |
CircGradBasedCorrMaskLeft (2) | 0.675006 |
CircGradBasedCorrMaskLeft (3) | 0.678803 |
CircGradBasedCorrMaskLeft (4) | 0.287916 |
CircGradBasedCorrMaskLeft (5) | 0.287692 |
CircGradBasedCorrMaskLeft (6) | 0.309583 |
CircGradBasedCorrMaskLeft (7) | 0.574938 |
CircGradBasedCorrMaskLeft (8) | 0.412553 |
CircGradBasedCorrMaskLeft (9) | 0.890999 |
CircGradBasedCorrMaskLeft | 0.507951 |
CircGradBasedCorrMaskMidpoint | +50 |
CircGradBasedCorrMaskRight (1) | 0.530551 |
CircGradBasedCorrMaskRight (10) | 0.749450 |
CircGradBasedCorrMaskRight (11) | 0.353114 |
CircGradBasedCorrMaskRight (12) | 0.508752 |
CircGradBasedCorrMaskRight (13) | 0.510386 |
CircGradBasedCorrMaskRight (14) | 0.288583 |
CircGradBasedCorrMaskRight (15) | 0.769135 |
CircGradBasedCorrMaskRight (16) | 0.570695 |
CircGradBasedCorrMaskRight (17) | 0.467723 |
CircGradBasedCorrMaskRight (18) | 0.547465 |
CircGradBasedCorrMaskRight (19) | 0.640831 |
CircGradBasedCorrMaskRight (2) | 0.722359 |
CircGradBasedCorrMaskRight (3) | 0.719901 |
CircGradBasedCorrMaskRight (4) | 0.332589 |
CircGradBasedCorrMaskRight (5) | 0.335046 |
CircGradBasedCorrMaskRight (6) | 0.415904 |
CircGradBasedCorrMaskRight (7) | 0.658923 |
CircGradBasedCorrMaskRight (8) | 0.586777 |
CircGradBasedCorrMaskRight (9) | 0.899487 |
CircGradBasedCorrMaskRight | 0.507908 |
CircGradBasedCorrMaskRoundness | 0 |
CircGradBasedCorrMaskTop (1) | 0.099135 |
CircGradBasedCorrMaskTop (10) | 0.051614 |
CircGradBasedCorrMaskTop (11) | -0.002236 |
CircGradBasedCorrMaskTop (12) | 0.068207 |
CircGradBasedCorrMaskTop (13) | 0.139767 |
CircGradBasedCorrMaskTop (14) | 0.677570 |
CircGradBasedCorrMaskTop (15) | 0.685359 |
CircGradBasedCorrMaskTop (16) | 0.722962 |
CircGradBasedCorrMaskTop (17) | 0.724903 |
CircGradBasedCorrMaskTop (18) | 0.008596 |
CircGradBasedCorrMaskTop (19) | 0.831947 |
CircGradBasedCorrMaskTop (2) | 0.689406 |
CircGradBasedCorrMaskTop (3) | 0.768164 |
CircGradBasedCorrMaskTop (4) | 0.762063 |
CircGradBasedCorrMaskTop (5) | 0.688019 |
CircGradBasedCorrMaskTop (6) | 0.797005 |
CircGradBasedCorrMaskTop (7) | 0.799501 |
CircGradBasedCorrMaskTop (8) | 0.836107 |
CircGradBasedCorrMaskTop (9) | 0.762064 |
CircGradBasedCorrMaskTop | 0.092061 |
CircGradBasedCorrMaskValue | 1.000000 |
CircGradBasedCorrMaskVersion | +2 |
CircGradBasedCorrMaskWhat | Mask/CircularGradient |
CircGradBasedCorrMoire | 0.000000 |
CircGradBasedCorrSaturation (35) | 0.356320 |
CircGradBasedCorrSaturation (39) | 0.385960 |
CircGradBasedCorrSaturation | 0.000000 |
CircGradBasedCorrShadows2012 (1) | 0.070180 |
CircGradBasedCorrShadows2012 (10) | 0.804350 |
CircGradBasedCorrShadows2012 (11) | 0.347830 |
CircGradBasedCorrShadows2012 (19) | 0.391300 |
CircGradBasedCorrShadows2012 (6) | 0.652170 |
CircGradBasedCorrShadows2012 (7) | 0.500000 |
CircGradBasedCorrShadows2012 (8) | 0.478260 |
CircGradBasedCorrShadows2012 (9) | 0.565220 |
CircGradBasedCorrShadows2012 | 0.000000 |
CircGradBasedCorrSharpness | 0.000000 |
CircGradBasedCorrTemperature | 0.000000 |
CircGradBasedCorrTint | 0.000000 |
CircGradBasedCorrWhat | Correction |
CircleOfConfusion | 0.006 mm |
Clarity2012 | +24 |
ColorComponents | 3 |
ColorNoiseReduction | 0 |
ColorSpace | sRGB |
ColorTransform | YCbCr |
Contrast2012 | +7 |
ConvertToGrayscale | True |
CreateDate (1) | 2018:01:03 20:14:38.45 |
CreateDate | 2018:01:03 20:14:38 |
CreatorTool | Adobe Photoshop Lightroom Classic 9.4 (Windows) |
DateCreated (1) | 2018:01:03 |
DateCreated | 2018:01:03 20:14:38.45 |
DateTimeOriginal | 2018:01:03 20:14:38 |
Dehaze | -21 |
DistortionCorrectionAlreadyApplied | True |
DOF | inf (113.29 m - inf) |
Exposure2012 | 0.00 |
ExposureCompensation | 0 |
ExposureMode | Manual |
ExposureProgram | Manual |
ExposureTime | 0.8 |
Firmware | 1.1.6 |
Flash | Off, Did not fire |
FlashCompensation | 0 |
FNumber | 5.6 |
FocalLength | 61.0 mm |
FocalLength35efl | 61.0 mm (35 mm equivalent: 312.5 mm) |
Format | image/jpeg |
FOV | 6.6 deg |
GrainAmount | 0 |
GrayMixerAqua | 0 |
GrayMixerBlue | 0 |
GrayMixerGreen | 0 |
GrayMixerMagenta | 0 |
GrayMixerOrange | 0 |
GrayMixerPurple | 0 |
GrayMixerRed | 0 |
GrayMixerYellow | 0 |
GreenHue | 0 |
GreenSaturation | 0 |
HasCrop | False |
HasSettings | True |
Highlights2012 | -57 |
HyperfocalDistance | 113.29 m |
ImageHeight | 805 |
ImageNumber | 0 |
ImageSize | 1000x805 |
ImageWidth | 1000 |
IncrementalTemperature | 0 |
IncrementalTint | 0 |
ISO | 800 |
LateralChromaticAberrationCorrectionAlreadyApplied | True |
Lens | 24-70mm |
LensID (1) | 137 |
LensID | Sigma 24-70mm f/2.8 IF EX DG HSM or Tamron SP 24-70mm f/2.8 Di VC USD |
LensInfo | 24-70mm f/? |
LensManualDistortionAmount | 0 |
LensModel | 24-70mm |
LensProfileEnable | 0 |
LensProfileSetup | LensDefaults |
LensSerialNumber | 0000000000 |
LightValue | 2.3 |
LookName | |
LuminanceNoiseReductionContrast | 0 |
LuminanceNoiseReductionDetail | 11 |
LuminanceSmoothing | 44 |
Make | Canon |
MaxApertureValue | 2.8 |
Megapixels | 0.805 |
MeteringMode | Multi-segment |
Model | Canon EOS 6D |
ModifyDate (1) | 2020:10:22 11:23:37+02:00 |
ModifyDate | 2020:10:22 11:23:37 |
OverrideLookVignette | False |
ParametricDarks | 0 |
ParametricHighlights | 0 |
ParametricHighlightSplit | 75 |
ParametricLights | 0 |
ParametricMidtoneSplit | 50 |
ParametricShadows | 0 |
ParametricShadowSplit | 25 |
PerspectiveAspect | 0 |
PerspectiveHorizontal | 0 |
PerspectiveRotate | 0.0 |
PerspectiveScale | 100 |
PerspectiveUpright | 0 |
PerspectiveVertical | 0 |
PerspectiveX | 0.00 |
PerspectiveY | 0.00 |
PhotographicSensitivity | 800 |
PostCropVignetteAmount | 0 |
ProcessVersion | 11.0 |
ProfileDescription | sRGB IEC61966-2.1 |
Rating | 5 |
RawFileName | |
RedHue | 0 |
RedSaturation | 0 |
ScaleFactor35efl | 5.1 |
SceneCaptureType | Standard |
SerialNumber | 313051002815 |
Shadows2012 | 0 |
ShadowTint | 0 |
SharpenDetail | 69 |
SharpenEdgeMasking | 67 |
SharpenRadius | +1.0 |
Sharpness | 66 |
ShutterSpeed | 0.8 |
ShutterSpeedValue | 0.8 |
Software | Adobe Photoshop Lightroom Classic 9.4 (Windows) |
SplitToningBalance | 0 |
SplitToningHighlightHue | 0 |
SplitToningHighlightSaturation | 0 |
SplitToningShadowHue | 0 |
SplitToningShadowSaturation | 0 |
Texture | 0 |
ToneCurve | 0, 0, 255, 255 |
ToneCurveBlue | 0, 0, 255, 255 |
ToneCurveGreen | 0, 0, 255, 255 |
ToneCurveName | Linear |
ToneCurveName2012 | Linear |
ToneCurvePV2012 | 0, 0, 255, 255 |
ToneCurvePV2012Blue | 0, 0, 255, 255 |
ToneCurvePV2012Green | 0, 0, 255, 255 |
ToneCurvePV2012Red | 0, 0, 255, 255 |
ToneCurveRed | 0, 0, 255, 255 |
ToneMapStrength | 0 |
Version | 12.4 |
VignetteAmount | 0 |
VignetteCorrectionAlreadyApplied | True |
WhiteBalance (1) | As Shot |
WhiteBalance | Auto |
Whites2012 | +50 |