Felt | Verdi |
AlreadyApplied | True |
Aperture | 6.3 |
ApertureValue | 6.3 |
AutoLateralCA | 0 |
AutoWhiteVersion | 134348800 |
BitsPerSample (1) | 8 8 8 |
BitsPerSample | 8 |
Blacks2012 | +40 |
BlueHue | 0 |
BlueSaturation | 0 |
CameraProfile | Adobe Standard |
Caption-Abstract | OLYMPUS DIGITAL CAMERA |
CFAPattern | [Red,Green][Green,Blue] |
CircleOfConfusion | 0.015 mm |
Clarity2012 | 0 |
ColorComponents | 3 |
ColorMode | RGB |
ColorNoiseReduction | 25 |
ColorNoiseReductionDetail | 50 |
ColorNoiseReductionSmoothness | 50 |
ColorSpace | sRGB |
ColorTemperature | 5300 |
ColorTransform | YCbCr |
Contrast | Low |
Contrast2012 | 0 |
ConvertToGrayscale | False |
CreateDate (1) | 2009:03:29 18:27:13+02:00 |
CreateDate | 2009:03:29 18:27:13 |
CreatorTool | Adobe Photoshop Lightroom 5.7 (Windows) |
CustomRendered | Normal |
DateCreated (1) | 2009:03:29 |
DateCreated | 2009:03:29 18:27:13 |
DateTimeOriginal | 2009:03:29 18:27:13 |
DefringeGreenAmount | 0 |
DefringeGreenHueHi | 60 |
DefringeGreenHueLo | 40 |
DefringePurpleAmount | 0 |
DefringePurpleHueHi | 70 |
DefringePurpleHueLo | 30 |
Description | OLYMPUS DIGITAL CAMERA |
DigitalZoomRatio | 1 |
ExifImageHeight | 900 |
ExifImageWidth | 720 |
Exposure2012 | +0.53 |
ExposureCompensation | -0.3 |
ExposureMode | Manual |
ExposureProgram | Aperture-priority AE |
ExposureTime | 1/250 |
Flash | On, Did not fire |
FlashCompensation | 0 |
FNumber | 6.3 |
FocalLength | 169.0 mm |
FocalLength35efl | 169.0 mm (35 mm equivalent: 339.0 mm) |
FocalLengthIn35mmFormat | 339 mm |
Format | image/jpeg |
FOV | 6.1 deg |
GainControl | Low gain up |
GrainAmount | 0 |
GreenHue | 0 |
GreenSaturation | 0 |
HasCrop | False |
HasSettings | True |
Highlights2012 | 0 |
HueAdjustmentAqua | 0 |
HueAdjustmentBlue | 0 |
HueAdjustmentGreen | 0 |
HueAdjustmentMagenta | 0 |
HueAdjustmentOrange | 0 |
HueAdjustmentPurple | 0 |
HueAdjustmentRed | 0 |
HueAdjustmentYellow | 0 |
HyperfocalDistance | 302.66 m |
ICCProfileName | sRGB IEC61966-2.1 |
ImageDescription | OLYMPUS DIGITAL CAMERA |
ImageHeight (1) | 2736 |
ImageHeight | 900 |
ImageSize | 720x900 |
ImageWidth (1) | 3648 |
ImageWidth | 720 |
ISO | 200 |
Lens | 50.0-200.0 mm f/2.8-3.5 |
LensInfo | 50-200mm f/2.8-3.5 |
LensManualDistortionAmount | 0 |
LensModel | 50.0-200.0 mm f/2.8-3.5 |
LensProfileEnable | 0 |
LensProfileSetup | LensDefaults |
LensSerialNumber | 060106343 |
LightSource | Unknown |
LightValue | 12.3 |
LuminanceAdjustmentAqua | 0 |
LuminanceAdjustmentBlue | 0 |
LuminanceAdjustmentGreen | 0 |
LuminanceAdjustmentMagenta | 0 |
LuminanceAdjustmentOrange | 0 |
LuminanceAdjustmentPurple | 0 |
LuminanceAdjustmentRed | 0 |
LuminanceAdjustmentYellow | 0 |
LuminanceSmoothing | 0 |
Make | OLYMPUS IMAGING CORP. |
MaxApertureValue | 2.8 |
Megapixels | 0.648 |
MeteringMode | Multi-segment |
Model | E-3 |
ModifyDate (1) | 2015:01:07 16:51:01+01:00 |
ModifyDate | 2015:01:07 16:51:01 |
Orientation | Horizontal (normal) |
ParametricDarks | 0 |
ParametricHighlights | 0 |
ParametricHighlightSplit | 75 |
ParametricLights | 0 |
ParametricMidtoneSplit | 50 |
ParametricShadows | 0 |
ParametricShadowSplit | 25 |
PerspectiveAspect | 0 |
PerspectiveHorizontal | 0 |
PerspectiveRotate | 0.0 |
PerspectiveScale | 100 |
PerspectiveUpright | 0 |
PerspectiveVertical | 0 |
PhotometricInterpretation | RGB |
PostCropVignetteAmount | 0 |
ProcessVersion | 6.7 |
ProfileDescription | sRGB IEC61966-2.1 |
RedHue | 0 |
RedSaturation | 0 |
SamplesPerPixel | 3 |
Saturation (1) | 0 |
Saturation | Normal |
SaturationAdjustmentAqua | 0 |
SaturationAdjustmentBlue | 0 |
SaturationAdjustmentGreen | 0 |
SaturationAdjustmentMagenta | 0 |
SaturationAdjustmentOrange | 0 |
SaturationAdjustmentPurple | 0 |
SaturationAdjustmentRed | 0 |
SaturationAdjustmentYellow | 0 |
ScaleFactor35efl | 2.0 |
SceneCaptureType | Standard |
SerialNumber | D71503500 |
Shadows2012 | 0 |
ShadowTint | 0 |
SharpenDetail | 25 |
SharpenEdgeMasking | 0 |
SharpenRadius | +1.0 |
Sharpness (1) | 25 |
Sharpness | Soft |
ShutterSpeed | 1/250 |
ShutterSpeedValue | 1/250 |
Software | Adobe Photoshop Elements 12.0 Windows |
SplitToningBalance | 0 |
SplitToningHighlightHue | 0 |
SplitToningHighlightSaturation | 0 |
SplitToningShadowHue | 0 |
SplitToningShadowSaturation | 0 |
Tint | +1 |
ToneCurve | 0, 0, 255, 255 |
ToneCurveBlue | 0, 0, 255, 255 |
ToneCurveGreen | 0, 0, 255, 255 |
ToneCurveName | Linear |
ToneCurveName2012 | Linear |
ToneCurvePV2012 | 0, 0, 255, 255 |
ToneCurvePV2012Blue | 0, 0, 255, 255 |
ToneCurvePV2012Green | 0, 0, 255, 255 |
ToneCurvePV2012Red | 0, 0, 255, 255 |
ToneCurveRed | 0, 0, 255, 255 |
URL_List | |
Version | 8.7 |
Vibrance | 0 |
VignetteAmount | 0 |
WhiteBalance (1) | Custom |
WhiteBalance | Auto |
Whites2012 | 0 |